Workbook

Sheet Su imone_rangovu susije v.
C5: Veiksnių reikšmingumų nustatymas ekspertinio vertinimo metodu
C8: Su įmone / rangovu susiję veiksniai
C10: Ekspertai | D10: Vertinami veiksniai | P10: X1 | Q10: Įmonės charakteristikos
D11: X1 | E11: X2 | F11: X3 | G11: X4 | H11: X5 | I11: X6 | J11: X7 | K11: X8 | L11: X9 | M11: X10 | N11: X11 | P11: X2 | Q11: Techninis ir profesinis pajėgumas
C12: E1 | D12: 8 | E12: 5 | F12: 2 | G12: 1 | H12: 9 | I12: 6 | J12: 7 | K12: 10 | L12: 11 | M12: 3 | N12: 4 | P12: X3 | Q12: Patirtis
C13: E2 | D13: 3 | E13: 2 | F13: 4 | G13: 5 | H13: 10 | I13: 11 | J13: 1 | K13: 9 | L13: 8 | M13: 7 | N13: 6 | P13: X4 | Q13: Ekonominė ir finansinė būklė
C14: E3 | D14: 4 | E14: 3 | F14: 1 | G14: 5 | H14: 7 | I14: 8 | J14: 2 | K14: 11 | L14: 10 | M14: 6 | N14: 9 | P14: X5 | Q14: Savininko vadybininko savybės
C15: E4 | D15: 3 | E15: 6 | F15: 2 | G15: 1 | H15: 10 | I15: 8 | J15: 5 | K15: 11 | L15: 9 | M15: 4 | N15: 7 | P15: X6 | Q15: Vadovybės palaikymas
C16: E5 | D16: 7 | E16: 5 | F16: 1 | G16: 2 | H16: 10 | I16: 11 | J16: 8 | K16: 9 | L16: 6 | M16: 3 | N16: 4 | P16: X7 | Q16: Darbo ir gamybos kokybė
C17: E6 | D17: 6 | E17: 1 | F17: 3 | G17: 2 | H17: 10 | I17: 9 | J17: 8 | K17: 7 | L17: 11 | M17: 5 | N17: 4 | P17: X8 | Q17: Sveikata ir saugumas
C18: E7 | D18: 4 | E18: 2 | F18: 1 | G18: 6 | H18: 9 | I18: 8 | J18: 7 | K18: 3 | L18: 10 | M18: 5 | N18: 11 | P18: X9 | Q18: Darbo aplinka
C19: E8 | D19: 6 | E19: 1 | F19: 3 | G19: 2 | H19: 10 | I19: 11 | J19: 4 | K19: 9 | L19: 8 | M19: 5 | N19: 7 | P19: X10 | Q19: Technologijų naudojimas
C20: E9 | D20: 8 | E20: 1 | F20: 2 | G20: 3 | H20: 9 | I20: 7 | J20: 4 | K20: 11 | L20: 10 | M20: 5 | N20: 6 | P20: X11 | Q20: Subrangovų pasitelkimas
C21: E10 | D21: 8 | E21: 2 | F21: 1 | G21: 4 | H21: 10 | I21: 7 | J21: 3 | K21: 11 | L21: 9 | M21: 5 | N21: 6
C22: E11 | D22: 6 | E22: 1 | F22: 2 | G22: 3 | H22: 9 | I22: 8 | J22: 4 | K22: 11 | L22: 10 | M22: 5 | N22: 7 | Q22: Konkordancijos koeficiento skaičiavimas
C23: E12 | D23: 3 | E23: 1 | F23: 2 | G23: 4 | H23: 9 | I23: 5 | J23: 6 | K23: 10 | L23: 11 | M23: 7 | N23: 8
C24: E13 | D24: 5 | E24: 3 | F24: 1 | G24: 2 | H24: 6 | I24: 9 | J24: 4 | K24: 11 | L24: 10 | M24: 7 | N24: 8 | Q24: Nuokrypio kvadratu sumos S skaičiavimas: | R24: =O42/11 -> 180
C25: E14 | D25: 5 | E25: 2 | F25: 1 | G25: 3 | H25: 9 | I25: 10 | J25: 4 | K25: 8 | L25: 11 | M25: 6 | N25: 7 | R25: =D42-R24 -> -26 | S25: =E42-R24 -> -108 | T25: =F42-R24 -> -119 | U25: =G42-R24 -> -68 | V25: =H42-R24 -> 93 | W25: =I42-R24 -> 84 | X25: =J42-R24 -> -40 | Y25: =K42-R24 -> 69 | Z25: =L42-R24 -> 74 | AA25: =M42-R24 -> -14 | AB25: =N42-R24 -> 55
C26: E15 | D26: 7 | E26: 2 | F26: 1 | G26: 3 | H26: 10 | I26: 11 | J26: 6 | K26: 9 | L26: 8 | M26: 4 | N26: 5 | R26: =R25*R25 -> 676 | S26: =S25*S25 -> 11664 | T26: =T25*T25 -> 14161 | U26: =U25*U25 -> 4624 | V26: =V25*V25 -> 8649 | W26: =W25*W25 -> 7056 | X26: =X25*X25 -> 1600 | Y26: =Y25*Y25 -> 4761 | ... AB26: =AB25*AB25 -> 3025
C27: E16 | D27: 7 | E27: 2 | F27: 1 | G27: 3 | H27: 11 | I27: 8 | J27: 4 | K27: 9 | L27: 10 | M27: 5 | N27: 6 | Q27: S | R27: =SUM(R26:AB26) -> 61888
C28: E17 | D28: 3 | E28: 1 | F28: 2 | G28: 4 | H28: 10 | I28: 9 | J28: 5 | K28: 6 | L28: 7 | M28: 8 | N28: 11 | Q28: Konkordancijos koeficiento W nustatymas | R28: =12*R27 -> 742656
C29: E18 | D29: 4 | E29: 6 | F29: 2 | G29: 5 | H29: 10 | I29: 1 | J29: 3 | K29: 9 | L29: 8 | M29: 7 | N29: 11 | R29: 900
C30: E19 | D30: 5 | E30: 1 | F30: 2 | G30: 3 | H30: 9 | I30: 10 | J30: 4 | K30: 7 | L30: 6 | M30: 8 | N30: 11 | R30: =R29*1320 -> 1188000
C31: E20 | D31: 4 | E31: 2 | F31: 1 | G31: 3 | H31: 7 | I31: 6 | J31: 5 | K31: 11 | L31: 9 | M31: 8 | N31: 10 | Q31: W | R31: =R28/R30 -> 0.62513131
C32: E21 | D32: 8 | E32: 6 | F32: 5 | G32: 7 | H32: 11 | I32: 9 | J32: 2 | K32: 1 | L32: 3 | M32: 4 | N32: 10 | Q32: Konkordancijos koeficiento reikšmingumas | R32: =R28/3960 -> 187.53939
C33: E22 | D33: 8 | E33: 4 | F33: 1 | G33: 5 | H33: 6 | I33: 10 | J33: 7 | K33: 2 | L33: 11 | M33: 3 | N33: 9
C34: E23 | D34: 3 | E34: 2 | F34: 1 | G34: 9 | H34: 5 | I34: 10 | J34: 4 | K34: 6 | L34: 7 | M34: 8 | N34: 11
C35: E24 | D35: 7 | E35: 1 | F35: 2 | G35: 3 | H35: 8 | I35: 10 | J35: 4 | K35: 11 | L35: 9 | M35: 5 | N35: 6
C36: E25 | D36: 4 | E36: 3 | F36: 5 | G36: 2 | H36: 9 | I36: 10 | J36: 6 | K36: 7 | L36: 8 | M36: 1 | N36: 11
C37: E26 | D37: 5 | E37: 2 | F37: 3 | G37: 7 | H37: 9 | I37: 11 | J37: 1 | K37: 8 | L37: 6 | M37: 4 | N37: 10
C38: E27 | D38: 3 | E38: 2 | F38: 1 | G38: 4 | H38: 10 | I38: 11 | J38: 5 | K38: 6 | L38: 7 | M38: 8 | N38: 9
C39: E28 | D39: 2 | E39: 1 | F39: 3 | G39: 4 | H39: 10 | I39: 9 | J39: 8 | K39: 11 | L39: 6 | M39: 7 | N39: 5
C40: E29 | D40: 6 | E40: 1 | F40: 2 | G40: 3 | H40: 11 | I40: 10 | J40: 4 | K40: 9 | L40: 8 | M40: 5 | N40: 7
C41: E30 | D41: 2 | E41: 1 | F41: 3 | G41: 4 | H41: 10 | I41: 11 | J41: 5 | K41: 6 | L41: 7 | M41: 8 | N41: 9
C42: Rangų suma | D42: =SUM(D12:D41) -> 154 | E42: =SUM(E12:E41) -> 72 | F42: =SUM(F12:F41) -> 61 | G42: =SUM(G12:G41) -> 112 | H42: =SUM(H12:H41) -> 273 | I42: =SUM(I12:I41) -> 264 | J42: =SUM(J12:J41) -> 140 | K42: =SUM(K12:K41) -> 249 | ... N42: =SUM(N12:N41) -> 235 | O42: =SUM(D42:N42) -> 1980
C43: Rangų vidurkis | D43: =(D42/30) -> 5.1333333 | E43: =(E42/30) -> 2.4 | F43: =(F42/30) -> 2.0333333 | G43: =(G42/30) -> 3.7333333 | H43: =(H42/30) -> 9.1 | I43: =(I42/30) -> 8.8 | J43: =(J42/30) -> 4.6666667 | K43: =(K42/30) -> 8.3 | ... N43: =(N42/30) -> 7.8333333 | O43: =SUM(D43:N43) -> 66
C44: Veiksnių reikšmingumas | D44: =(D43/O43) -> 0.077777778 | E44: =(E43/O43) -> 0.036363636 | F44: =(F43/O43) -> 0.030808081 | G44: =(G43/O43) -> 0.056565657 | H44: =(H43/O43) -> 0.13787879 | I44: =(I43/O43) -> 0.13333333 | J44: =(J43/O43) -> 0.070707071 | K44: =(K43/O43) -> 0.12575758 | L44: =(L43/O43) -> 0.12828283 | M44: =(M43/O43) -> 0.083838384 | N44: =(N43/O43) -> 0.11868687
D45: =1-D44 -> 0.92222222 | E45: =1-E44 -> 0.96363636 | F45: =1-F44 -> 0.96919192 | G45: =1-G44 -> 0.94343434 | H45: =1-H44 -> 0.86212121 | I45: =1-I44 -> 0.86666667 | J45: =1-J44 -> 0.92929293 | K45: =1-K44 -> 0.87424242 | ... N45: =1-N44 -> 0.88131313 | O45: =SUM(D45:N45) -> 10
C46: Subjektyvinis reikšmingumas | D46: =D45/10 -> 0.092222222 | E46: =E45/10 -> 0.096363636 | F46: =F45/10 -> 0.096919192 | G46: =G45/10 -> 0.094343434 | H46: =H45/10 -> 0.086212121 | I46: =I45/10 -> 0.086666667 | J46: =J45/10 -> 0.092929293 | K46: =K45/10 -> 0.087424242 | ... N46: =N45/10 -> 0.088131313 | O46: =SUM(D46:N46) -> 1
C48: Kriterijų ranžiruotė | D48: =IF(D44=D49,1,IF(D44=E49,2,IF(D44=F49,3,IF(D44=G49,4,IF(D44=H49,5,IF(D44=I49,6,IF(D44=J49,7,IF(D44=K49,8,IF(D44=L49,9,IF(D44=M49,10,11)))))))))) -> 5 | E48: =IF(E44=D49,1,IF(E44=E49,2,IF(E44=F49,3,IF(E44=G49,4,IF(E44=H49,5,IF(E44=I49,6,IF(E44=J49,7,IF(E44=K49,8,IF(E44=L49,9,IF(E44=M49,10,11)))))))))) -> 2 | F48: =IF(F44=D49,1,IF(F44=E49,2,IF(F44=F49,3,IF(F44=G49,4,IF(F44=H49,5,IF(F44=I49,6,IF(F44=J49,7,IF(F44=K49,8,IF(F44=L49,9,IF(F44=M49,10,11)))))))))) -> 1 | G48: =IF(G44=D49,1,IF(G44=E49,2,IF(G44=F49,3,IF(G44=G49,4,IF(G44=H49,5,IF(G44=I49,6,IF(G44=J49,7,IF(G44=K49,8,IF(G44=L49,9,IF(G44=M49,10,11)))))))))) -> 3 | H48: =IF(H44=D49,1,IF(H44=E49,2,IF(H44=F49,3,IF(H44=G49,4,IF(H44=H49,5,IF(H44=I49,6,IF(H44=J49,7,IF(H44=K49,8,IF(H44=L49,9,IF(H44=M49,10,11)))))))))) -> 11 | I48: =IF(I44=D49,1,IF(I44=E49,2,IF(I44=F49,3,IF(I44=G49,4,IF(I44=H49,5,IF(I44=I49,6,IF(I44=J49,7,IF(I44=K49,8,IF(I44=L49,9,IF(I44=M49,10,11)))))))))) -> 10 | J48: =IF(J44=D49,1,IF(J44=E49,2,IF(J44=F49,3,IF(J44=G49,4,IF(J44=H49,5,IF(J44=I49,6,IF(J44=J49,7,IF(J44=K49,8,IF(J44=L49,9,IF(J44=M49,10,11)))))))))) -> 4 | K48: =IF(K44=D49,1,IF(K44=E49,2,IF(K44=F49,3,IF(K44=G49,4,IF(K44=H49,5,IF(K44=I49,6,IF(K44=J49,7,IF(K44=K49,8,IF(K44=L49,9,IF(K44=M49,10,11)))))))))) -> 8 | L48: =IF(L44=D49,1,IF(L44=E49,2,IF(L44=F49,3,IF(L44=G49,4,IF(L44=H49,5,IF(L44=I49,6,IF(L44=J49,7,IF(L44=K49,8,IF(L44=L49,9,IF(L44=M49,10,11)))))))))) -> 9 | M48: =IF(M44=D49,1,IF(M44=E49,2,IF(M44=F49,3,IF(M44=G49,4,IF(M44=H49,5,IF(M44=I49,6,IF(M44=J49,7,IF(M44=K49,8,IF(M44=L49,9,IF(M44=M49,10,11)))))))))) -> 6 | N48: =IF(N44=D49,1,IF(N44=E49,2,IF(N44=F49,3,IF(N44=G49,4,IF(N44=H49,5,IF(N44=I49,6,IF(N44=J49,7,IF(N44=K49,8,IF(N44=L49,9,IF(N44=M49,10,11)))))))))) -> 7
...

Sheet Su statytoju susije v.
C5: Veiksnių reikšmingumų nustatymas ekspertinio vertinimo metodu
C8: Su statytoju susiję veiksniai
C10: Ekspertai | D10: Vertinami veiksniai | M10: X1 | N10: Patirtis
D11: X1 | E11: X2 | F11: X3 | G11: X4 | H11: X5 | I11: X6 | J11: X7 | K11: X8 | M11: X2 | N11: Statytojo tipas
C12: E1 | D12: 1 | E12: 3 | F12: 8 | G12: 5 | H12: 6 | I12: 2 | J12: 4 | K12: 7 | M12: X3 | N12: Dydis
C13: E2 | D13: 2 | E13: 3 | F13: 8 | G13: 5 | H13: 6 | I13: 1 | J13: 4 | K13: 7 | M13: X4 | N13: Įtakingumas
C14: E3 | D14: 1 | E14: 6 | F14: 7 | G14: 5 | H14: 8 | I14: 3 | J14: 2 | K14: 4 | M14: X5 | N14: Galimybės savarankiškai ir laiku priimti sprendimus
C15: E4 | D15: 1 | E15: 7 | F15: 6 | G15: 8 | H15: 5 | I15: 2 | J15: 4 | K15: 3 | M15: X6 | N15: Aiškiai suformuluoti projekto tikslai
C16: E5 | D16: 1 | E16: 7 | F16: 8 | G16: 5 | H16: 6 | I16: 4 | J16: 2 | K16: 3 | M16: X7 | N16: Galimybės prisiimti riziką
C17: E6 | D17: 1 | E17: 7 | F17: 5 | G17: 8 | H17: 6 | I17: 2 | J17: 4 | K17: 3 | M17: X8 | N17: Galimybės kvalifikuotai dalyvauti įvairiose projekto etapuose
C18: E7 | D18: 1 | E18: 6 | F18: 4 | G18: 7 | H18: 8 | I18: 2 | J18: 3 | K18: 5
C19: E8 | D19: 2 | E19: 6 | F19: 4 | G19: 8 | H19: 7 | I19: 1 | J19: 3 | K19: 5 | N19: Konkordancijos koeficiento skaičiavimas
C20: E9 | D20: 1 | E20: 2 | F20: 6 | G20: 7 | H20: 8 | I20: 3 | J20: 4 | K20: 5
C21: E10 | D21: 1 | E21: 4 | F21: 5 | G21: 8 | H21: 6 | I21: 3 | J21: 2 | K21: 7 | N21: Nuokrypio kvadratu sumos S skaičiavimas: | O21: =L42/8 -> 135
C22: E11 | D22: 1 | E22: 8 | F22: 7 | G22: 4 | H22: 6 | I22: 3 | J22: 2 | K22: 5 | O22: =D42-O21 -> -84 | P22: =E42-O21 -> 48 | Q22: =F42-O21 -> 54 | R22: =G42-O21 -> 61 | S22: =H42-O21 -> 24 | T22: =I42-O21 -> -76 | U22: =J42-O21 -> -20 | V22: =K42-O21 -> -7
C23: E12 | D23: 2 | E23: 8 | F23: 6 | G23: 5 | H23: 7 | I23: 1 | J23: 3 | K23: 4 | O23: =O22*O22 -> 7056 | P23: =P22*P22 -> 2304 | Q23: =Q22*Q22 -> 2916 | R23: =R22*R22 -> 3721 | S23: =S22*S22 -> 576 | T23: =T22*T22 -> 5776 | U23: =U22*U22 -> 400 | V23: =V22*V22 -> 49
C24: E13 | D24: 1 | E24: 7 | F24: 6 | G24: 5 | H24: 8 | I24: 2 | J24: 4 | K24: 3 | N24: S | O24: =SUM(O23:V23) -> 22798
C25: E14 | D25: 1 | E25: 6 | F25: 4 | G25: 8 | H25: 7 | I25: 2 | J25: 3 | K25: 5 | N25: Konkordancijos koeficiento W nustatymas | O25: =12*O24 -> 273576
C26: E15 | D26: 1 | E26: 7 | F26: 6 | G26: 5 | H26: 8 | I26: 3 | J26: 2 | K26: 4 | O26: 900
C27: E16 | D27: 4 | E27: 8 | F27: 7 | G27: 6 | H27: 2 | I27: 1 | J27: 5 | K27: 3 | O27: =O26*504 -> 453600
C28: E17 | D28: 4 | E28: 7 | F28: 8 | G28: 6 | H28: 2 | I28: 1 | J28: 5 | K28: 3 | N28: W | O28: =O25/O27 -> 0.60312169
C29: E18 | D29: 1 | E29: 8 | F29: 7 | G29: 5 | H29: 4 | I29: 2 | J29: 6 | K29: 3 | N29: Konkordancijos koeficiento reikšmingumas | O29: =O25/2160 -> 126.65556
C30: E19 | D30: 3 | E30: 8 | F30: 6 | G30: 7 | H30: 4 | I30: 1 | J30: 5 | K30: 2
C31: E20 | D31: 1 | E31: 7 | F31: 8 | G31: 6 | H31: 3 | I31: 2 | J31: 5 | K31: 4
C32: E21 | D32: 4 | E32: 5 | F32: 7 | G32: 8 | H32: 6 | I32: 1 | J32: 2 | K32: 3
C33: E22 | D33: 1 | E33: 4 | F33: 2 | G33: 8 | H33: 5 | I33: 3 | J33: 6 | K33: 7
C34: E23 | D34: 1 | E34: 4 | F34: 8 | G34: 7 | H34: 3 | I34: 2 | J34: 6 | K34: 5
C35: E24 | D35: 4 | E35: 8 | F35: 7 | G35: 6 | H35: 5 | I35: 1 | J35: 3 | K35: 2
C36: E25 | D36: 1 | E36: 2 | F36: 8 | G36: 5 | H36: 3 | I36: 4 | J36: 6 | K36: 7
C37: E26 | D37: 2 | E37: 7 | F37: 6 | G37: 8 | H37: 3 | I37: 1 | J37: 5 | K37: 4
C38: E27 | D38: 1 | E38: 8 | F38: 6 | G38: 7 | H38: 5 | I38: 2 | J38: 3 | K38: 4
C39: E28 | D39: 3 | E39: 6 | F39: 7 | G39: 8 | H39: 2 | I39: 1 | J39: 5 | K39: 4
C40: E29 | D40: 2 | E40: 7 | F40: 6 | G40: 8 | H40: 5 | I40: 1 | J40: 4 | K40: 3
C41: E30 | D41: 1 | E41: 7 | F41: 6 | G41: 8 | H41: 5 | I41: 2 | J41: 3 | K41: 4
C42: Rangų suma | D42: =SUM(D12:D41) -> 51 | E42: =SUM(E12:E41) -> 183 | F42: =SUM(F12:F41) -> 189 | G42: =SUM(G12:G41) -> 196 | H42: =SUM(H12:H41) -> 159 | I42: =SUM(I12:I41) -> 59 | J42: =SUM(J12:J41) -> 115 | K42: =SUM(K12:K41) -> 128 | L42: =SUM(D42:K42) -> 1080
C43: Rangų vidurkis | D43: =(D42/30) -> 1.7 | E43: =(E42/30) -> 6.1 | F43: =(F42/30) -> 6.3 | G43: =(G42/30) -> 6.5333333 | H43: =(H42/30) -> 5.3 | I43: =(I42/30) -> 1.9666667 | J43: =(J42/30) -> 3.8333333 | K43: =(K42/30) -> 4.2666667 | L43: =SUM(D43:K43) -> 36
C44: Veiksnių reikšmingumas | D44: =(D43/L43) -> 0.047222222 | E44: =(E43/L43) -> 0.16944444 | F44: =(F43/L43) -> 0.175 | G44: =(G43/L43) -> 0.18148148 | H44: =(H43/L43) -> 0.14722222 | I44: =(I43/L43) -> 0.05462963 | J44: =(J43/L43) -> 0.10648148 | K44: =(K43/L43) -> 0.11851852
D45: =1-D44 -> 0.95277778 | E45: =1-E44 -> 0.83055556 | F45: =1-F44 -> 0.825 | G45: =1-G44 -> 0.81851852 | H45: =1-H44 -> 0.85277778 | I45: =1-I44 -> 0.94537037 | J45: =1-J44 -> 0.89351852 | K45: =1-K44 -> 0.88148148 | L45: =SUM(D45:K45) -> 7
C46: Subjektyvinis reikšmingumas | D46: =D45/7 -> 0.13611111 | E46: =E45/7 -> 0.11865079 | F46: =F45/7 -> 0.11785714 | G46: =G45/7 -> 0.11693122 | H46: =H45/7 -> 0.1218254 | I46: =I45/7 -> 0.13505291 | J46: =J45/7 -> 0.1276455 | K46: =K45/7 -> 0.12592593 | L46: =SUM(D46:K46) -> 1
C48: Kriterijų ranžiruotė | D48: =IF(D44=D49,1,IF(D44=E49,2,IF(D44=F49,3,IF(D44=G49,4,IF(D44=H49,5,IF(D44=I49,6,IF(D44=J49,7,8))))))) -> 1 | E48: =IF(E44=D49,1,IF(E44=E49,2,IF(E44=F49,3,IF(E44=G49,4,IF(E44=H49,5,IF(E44=I49,6,IF(E44=J49,7,8))))))) -> 6 | F48: =IF(F44=D49,1,IF(F44=E49,2,IF(F44=F49,3,IF(F44=G49,4,IF(F44=H49,5,IF(F44=I49,6,IF(F44=J49,7,8))))))) -> 7 | G48: =IF(G44=D49,1,IF(G44=E49,2,IF(G44=F49,3,IF(G44=G49,4,IF(G44=H49,5,IF(G44=I49,6,IF(G44=J49,7,8))))))) -> 8 | H48: =IF(H44=D49,1,IF(H44=E49,2,IF(H44=F49,3,IF(H44=G49,4,IF(H44=H49,5,IF(H44=I49,6,IF(H44=J49,7,8))))))) -> 5 | I48: =IF(I44=D49,1,IF(I44=E49,2,IF(I44=F49,3,IF(I44=G49,4,IF(I44=H49,5,IF(I44=I49,6,IF(I44=J49,7,8))))))) -> 2 | J48: =IF(J44=D49,1,IF(J44=E49,2,IF(J44=F49,3,IF(J44=G49,4,IF(J44=H49,5,IF(J44=I49,6,IF(J44=J49,7,8))))))) -> 3 | K48: =IF(K44=D49,1,IF(K44=E49,2,IF(K44=F49,3,IF(K44=G49,4,IF(K44=H49,5,IF(K44=I49,6,IF(K44=J49,7,8))))))) -> 4
...

Sheet Su pr.vadovu susije v. 
C5: Veiksnių reikšmingumų nustatymas ekspertinio vertinimo metodu
C8: Su projekto vadovu susiję veiksniai
C10: Ekspertai | D10: Vertinami veiksniai | R10: X1 | S10: Kompetencija
D11: X1 | E11: X2 | F11: X3 | G11: X4 | H11: X5 | I11: X6 | J11: X7 | K11: X8 | L11: X9 | M11: X10 | N11: X11 | O11: X12 | P11: X13 | R11: X2 | S11: Patirtis
C12: E1 | D12: 4 | E12: 1 | F12: 2 | G12: 9 | H12: 8 | I12: 5 | J12: 7 | K12: 6 | L12: 3 | M12: 13 | N12: 12 | O12: 10 | P12: 11 | R12: X3 | S12: Techninės žinios
C13: E2 | D13: 1 | E13: 2 | F13: 3 | G13: 11 | H13: 12 | I13: 5 | J13: 4 | K13: 7 | L13: 6 | M13: 10 | N13: 8 | O13: 9 | P13: 13 | R13: X4 | S13: Lyderio savybės
C14: E3 | D14: 6 | E14: 1 | F14: 3 | G14: 2 | H14: 7 | I14: 4 | J14: 8 | K14: 9 | L14: 11 | M14: 10 | N14: 13 | O14: 5 | P14: 12 | R14: X5 | S14: Motyvavimo įgūdžiai
C15: E4 | D15: 3 | E15: 2 | F15: 1 | G15: 11 | H15: 8 | I15: 4 | J15: 5 | K15: 9 | L15: 6 | M15: 10 | N15: 12 | O15: 7 | P15: 13 | R15: X6 | S15: Organizaciniai įgūdžiai
C16: E5 | D16: 5 | E16: 1 | F16: 2 | G16: 11 | H16: 7 | I16: 6 | J16: 8 | K16: 9 | L16: 3 | M16: 4 | N16: 10 | O16: 12 | P16: 13 | R16: X7 | S16: Koordinavimo įgūdžiai
C17: E6 | D17: 2 | E17: 1 | F17: 4 | G17: 8 | H17: 9 | I17: 7 | J17: 3 | K17: 6 | L17: 5 | M17: 13 | N17: 11 | O17: 10 | P17: 12 | R17: X8 | S17: Efektyvus ir savalaikis konfliktų išsprendimas
C18: E7 | D18: 5 | E18: 2 | F18: 1 | G18: 7 | H18: 9 | I18: 3 | J18: 6 | K18: 12 | L18: 11 | M18: 4 | N18: 10 | O18: 8 | P18: 13 | R18: X9 | S18: Gebėjimas prisitaikyti prie projekto pokyčių
C19: E8 | D19: 5 | E19: 1 | F19: 3 | G19: 11 | H19: 10 | I19: 2 | J19: 6 | K19: 7 | L19: 12 | M19: 4 | N19: 13 | O19: 9 | P19: 8 | R19: X10 | S19: Gebėjimas paskirstyti atsakomybę ir įgaliojimus
C20: E9 | D20: 2 | E20: 1 | F20: 4 | G20: 9 | H20: 8 | I20: 3 | J20: 7 | K20: 6 | L20: 5 | M20: 10 | N20: 12 | O20: 11 | P20: 13 | R20: X11 | S20: Savo vaidmens ir atsakomybės suvokimas
C21: E10 | D21: 1 | E21: 2 | F21: 3 | G21: 9 | H21: 8 | I21: 4 | J21: 6 | K21: 7 | L21: 5 | M21: 11 | N21: 12 | O21: 10 | P21: 13 | R21: X12 | S21: Pasitikėjimas
C22: E11 | D22: 3 | E22: 1 | F22: 2 | G22: 9 | H22: 5 | I22: 4 | J22: 6 | K22: 7 | L22: 8 | M22: 11 | N22: 13 | O22: 12 | P22: 10 | R22: X13 | S22: Sutarties valdymas
C23: E12 | D23: 3 | E23: 1 | F23: 2 | G23: 8 | H23: 7 | I23: 4 | J23: 6 | K23: 9 | L23: 10 | M23: 5 | N23: 12 | O23: 11 | P23: 13
C24: E13 | D24: 5 | E24: 6 | F24: 1 | G24: 9 | H24: 7 | I24: 4 | J24: 2 | K24: 13 | L24: 3 | M24: 11 | N24: 8 | O24: 10 | P24: 12 | S24: Konkordancijos koeficiento skaičiavimas
C25: E14 | D25: 5 | E25: 1 | F25: 2 | G25: 9 | H25: 11 | I25: 4 | J25: 6 | K25: 8 | L25: 3 | M25: 7 | N25: 10 | O25: 13 | P25: 12
C26: E15 | D26: 5 | E26: 2 | F26: 1 | G26: 11 | H26: 8 | I26: 4 | J26: 3 | K26: 7 | L26: 6 | M26: 10 | N26: 9 | O26: 13 | P26: 12 | S26: Nuokrypio kvadratu sumos S skaičiavimas: | T26: =Q42/13 -> 210
C27: E16 | D27: 4 | E27: 1 | F27: 3 | G27: 12 | H27: 9 | I27: 5 | J27: 2 | K27: 7 | L27: 6 | M27: 10 | N27: 13 | O27: 11 | P27: 8 | T27: =D42-T26 -> -116 | U27: =E42-T26 -> -151 | V27: =F42-T26 -> -113 | W27: =G42-T26 -> 30 | X27: =H42-T26 -> 49 | Y27: =I42-T26 -> -63 | Z27: =J42-T26 -> -30 | AA27: =K42-T26 -> 17 | AB27: =L42-T26 -> -2 | AC27: =M42-T26 -> 36 | AD27: =N42-T26 -> 112 | AE27: =O42-T26 -> 98 | AF27: =P42-T26 -> 133
C28: E17 | D28: 1 | E28: 3 | F28: 8 | G28: 12 | H28: 13 | I28: 7 | J28: 2 | K28: 11 | L28: 4 | M28: 6 | N28: 9 | O28: 10 | P28: 5 | T28: =T27*T27 -> 13456 | U28: =U27*U27 -> 22801 | V28: =V27*V27 -> 12769 | W28: =W27*W27 -> 900 | X28: =X27*X27 -> 2401 | Y28: =Y27*Y27 -> 3969 | Z28: =Z27*Z27 -> 900 | AA28: =AA27*AA27 -> 289 | ... AF28: =AF27*AF27 -> 17689
C29: E18 | D29: 3 | E29: 5 | F29: 6 | G29: 8 | H29: 13 | I29: 7 | J29: 9 | K29: 2 | L29: 1 | M29: 4 | N29: 10 | O29: 11 | P29: 12 | S29: S | T29: =SUM(T28:AF28) -> 98622
C30: E19 | D30: 1 | E30: 7 | F30: 2 | G30: 10 | H30: 13 | I30: 3 | J30: 8 | K30: 9 | L30: 4 | M30: 5 | N30: 12 | O30: 6 | P30: 11 | S30: Konkordancijos koeficiento W nustatymas | T30: =12*T29 -> 1183464
C31: E20 | D31: 1 | E31: 3 | F31: 2 | G31: 7 | H31: 6 | I31: 4 | J31: 5 | K31: 10 | L31: 12 | M31: 8 | N31: 9 | O31: 11 | P31: 13 | T31: 900
C32: E21 | D32: 1 | E32: 2 | F32: 4 | G32: 5 | H32: 10 | I32: 3 | J32: 12 | K32: 7 | L32: 8 | M32: 9 | N32: 6 | O32: 13 | P32: 11 | T32: =(T31*2184) -> 1965600
C33: E22 | D33: 2 | E33: 1 | F33: 10 | G33: 11 | H33: 12 | I33: 3 | J33: 5 | K33: 4 | L33: 13 | M33: 6 | N33: 7 | O33: 8 | P33: 9 | S33: W | T33: =T30/T32 -> 0.60208791
C34: E23 | D34: 4 | E34: 1 | F34: 8 | G34: 11 | H34: 7 | I34: 5 | J34: 2 | K34: 3 | L34: 12 | M34: 6 | N34: 10 | O34: 13 | P34: 9 | S34: Konkordancijos koeficiento reikšmingumas | T34: =T30/5460 -> 216.75165
C35: E24 | D35: 9 | E35: 1 | F35: 4 | G35: 2 | H35: 10 | I35: 11 | J35: 5 | K35: 12 | L35: 6 | M35: 3 | N35: 7 | O35: 8 | P35: 13
C36: E25 | D36: 3 | E36: 2 | F36: 4 | G36: 1 | H36: 5 | I36: 9 | J36: 10 | K36: 6 | L36: 7 | M36: 8 | N36: 13 | O36: 12 | P36: 11
C37: E26 | D37: 2 | E37: 1 | F37: 3 | G37: 4 | H37: 12 | I37: 6 | J37: 7 | K37: 5 | L37: 8 | M37: 9 | N37: 10 | O37: 11 | P37: 13
C38: E27 | D38: 1 | E38: 2 | F38: 3 | G38: 5 | H38: 6 | I38: 4 | J38: 7 | K38: 8 | L38: 9 | M38: 10 | N38: 13 | O38: 11 | P38: 12
C39: E28 | D39: 3 | E39: 2 | F39: 1 | G39: 4 | H39: 5 | I39: 9 | J39: 10 | K39: 6 | L39: 7 | M39: 8 | N39: 13 | O39: 12 | P39: 11
C40: E29 | D40: 1 | E40: 2 | F40: 3 | G40: 9 | H40: 8 | I40: 4 | J40: 6 | K40: 7 | L40: 5 | M40: 11 | N40: 12 | O40: 10 | P40: 13
C41: E30 | D41: 3 | E41: 1 | F41: 2 | G41: 5 | H41: 6 | I41: 4 | J41: 7 | K41: 8 | L41: 9 | M41: 10 | N41: 13 | O41: 11 | P41: 12
C42: Rangų suma | D42: =SUM(D12:D41) -> 94 | E42: =SUM(E12:E41) -> 59 | F42: =SUM(F12:F41) -> 97 | G42: =SUM(G12:G41) -> 240 | H42: =SUM(H12:H41) -> 259 | I42: =SUM(I12:I41) -> 147 | J42: =SUM(J12:J41) -> 180 | K42: =SUM(K12:K41) -> 227 | ... P42: =SUM(P12:P41) -> 343 | Q42: =SUM(D42:P42) -> 2730
C43: Rangų vidurkis | D43: =(D42/30) -> 3.1333333 | E43: =(E42/30) -> 1.9666667 | F43: =(F42/30) -> 3.2333333 | G43: =(G42/30) -> 8 | H43: =(H42/30) -> 8.6333333 | I43: =(I42/30) -> 4.9 | J43: =(J42/30) -> 6 | K43: =(K42/30) -> 7.5666667 | ... P43: =(P42/30) -> 11.433333 | Q43: =SUM(D43:P43) -> 91
C44: Veiksnių reikšmingumas | D44: =(D43/Q43) -> 0.034432234 | E44: =(E43/Q43) -> 0.021611722 | F44: =(F43/Q43) -> 0.035531136 | G44: =(G43/Q43) -> 0.087912088 | H44: =(H43/Q43) -> 0.094871795 | I44: =(I43/Q43) -> 0.053846154 | J44: =(J43/Q43) -> 0.065934066 | K44: =(K43/Q43) -> 0.083150183 | L44: =(L43/Q43) -> 0.076190476 | M44: =(M43/Q43) -> 0.09010989 | N44: =(N43/Q43) -> 0.11794872 | O44: =(O43/Q43) -> 0.11282051 | P44: =(P43/Q43) -> 0.12564103
D45: =1-D44 -> 0.96556777 | E45: =1-E44 -> 0.97838828 | F45: =1-F44 -> 0.96446886 | G45: =1-G44 -> 0.91208791 | H45: =1-H44 -> 0.90512821 | I45: =1-I44 -> 0.94615385 | J45: =1-J44 -> 0.93406593 | K45: =1-K44 -> 0.91684982 | ... P45: =1-P44 -> 0.87435897 | Q45: =SUM(D45:P45) -> 12
C46: Subjektyvinis reikšmingumas | D46: =D45/12 -> 0.08046398 | E46: =E45/12 -> 0.081532357 | F46: =F45/12 -> 0.080372405 | G46: =G45/12 -> 0.076007326 | H46: =H45/12 -> 0.07542735 | I46: =I45/12 -> 0.078846154 | J46: =J45/12 -> 0.077838828 | K46: =K45/12 -> 0.076404151 | ... P46: =P45/12 -> 0.072863248 | Q46: =SUM(D46:P46) -> 1
C48: Kriterijų ranžiruotė | D48: =IF(D44=D49,1,IF(D44=E49,2,IF(D44=F49,3,IF(D44=G49,4,IF(D44=H49,5,IF(D44=I49,6,IF(D44=J49,7,IF(D44=K49,8,IF(D44=L49,9,IF(D44=M49,10,IF(D44=N49,11,IF(D44=O49,12,13)))))))))))) -> 2 | E48: =IF(E44=D49,1,IF(E44=E49,2,IF(E44=F49,3,IF(E44=G49,4,IF(E44=H49,5,IF(E44=I49,6,IF(E44=J49,7,IF(E44=K49,8,IF(E44=L49,9,IF(E44=M49,10,IF(E44=N49,11,IF(E44=O49,12,13)))))))))))) -> 1 | F48: =IF(F44=D49,1,IF(F44=E49,2,IF(F44=F49,3,IF(F44=G49,4,IF(F44=H49,5,IF(F44=I49,6,IF(F44=J49,7,IF(F44=K49,8,IF(F44=L49,9,IF(F44=M49,10,IF(F44=N49,11,IF(F44=O49,12,13)))))))))))) -> 3 | G48: =IF(G44=D49,1,IF(G44=E49,2,IF(G44=F49,3,IF(G44=G49,4,IF(G44=H49,5,IF(G44=I49,6,IF(G44=J49,7,IF(G44=K49,8,IF(G44=L49,9,IF(G44=M49,10,IF(G44=N49,11,IF(G44=O49,12,13)))))))))))) -> 8 | H48: =IF(H44=D49,1,IF(H44=E49,2,IF(H44=F49,3,IF(H44=G49,4,IF(H44=H49,5,IF(H44=I49,6,IF(H44=J49,7,IF(H44=K49,8,IF(H44=L49,9,IF(H44=M49,10,IF(H44=N49,11,IF(H44=O49,12,13)))))))))))) -> 10 | I48: =IF(I44=D49,1,IF(I44=E49,2,IF(I44=F49,3,IF(I44=G49,4,IF(I44=H49,5,IF(I44=I49,6,IF(I44=J49,7,IF(I44=K49,8,IF(I44=L49,9,IF(I44=M49,10,IF(I44=N49,11,IF(I44=O49,12,13)))))))))))) -> 4 | J48: =IF(J44=D49,1,IF(J44=E49,2,IF(J44=F49,3,IF(J44=G49,4,IF(J44=H49,5,IF(J44=I49,6,IF(J44=J49,7,IF(J44=K49,8,IF(J44=L49,9,IF(J44=M49,10,IF(J44=N49,11,IF(J44=O49,12,13)))))))))))) -> 5 | K48: =IF(K44=D49,1,IF(K44=E49,2,IF(K44=F49,3,IF(K44=G49,4,IF(K44=H49,5,IF(K44=I49,6,IF(K44=J49,7,IF(K44=K49,8,IF(K44=L49,9,IF(K44=M49,10,IF(K44=N49,11,IF(K44=O49,12,13)))))))))))) -> 7 | L48: =IF(L44=D49,1,IF(L44=E49,2,IF(L44=F49,3,IF(L44=G49,4,IF(L44=H49,5,IF(L44=I49,6,IF(L44=J49,7,IF(L44=K49,8,IF(L44=L49,9,IF(L44=M49,10,IF(L44=N49,11,IF(L44=O49,12,13)))))))))))) -> 6 | M48: =IF(M44=D49,1,IF(M44=E49,2,IF(M44=F49,3,IF(M44=G49,4,IF(M44=H49,5,IF(M44=I49,6,IF(M44=J49,7,IF(M44=K49,8,IF(M44=L49,9,IF(M44=M49,10,IF(M44=N49,11,IF(M44=O49,12,13)))))))))))) -> 9 | N48: =IF(N44=D49,1,IF(N44=E49,2,IF(N44=F49,3,IF(N44=G49,4,IF(N44=H49,5,IF(N44=I49,6,IF(N44=J49,7,IF(N44=K49,8,IF(N44=L49,9,IF(N44=M49,10,IF(N44=N49,11,IF(N44=O49,12,13)))))))))))) -> 12 | O48: =IF(O44=D49,1,IF(O44=E49,2,IF(O44=F49,3,IF(O44=G49,4,IF(O44=H49,5,IF(O44=I49,6,IF(O44=J49,7,IF(O44=K49,8,IF(O44=L49,9,IF(O44=M49,10,IF(O44=N49,11,IF(O44=O49,12,13)))))))))))) -> 11 | P48: =IF(P44=D49,1,IF(P44=E49,2,IF(P44=F49,3,IF(P44=G49,4,IF(P44=H49,5,IF(P44=I49,6,IF(P44=J49,7,IF(P44=K49,8,IF(P44=L49,9,IF(P44=M49,10,IF(P44=N49,11,IF(P44=O49,12,13)))))))))))) -> 13
...

Sheet Su proj.vald_komand sus.v.
C5: Veiksnių reikšmingumų nustatymas ekspertinio vertinimo metodu
C8: Su projekt valdymu / komanda susiję veiksniai
C10: Ekspertai | D10: Vertinami veiksniai | P10: X1 | Q10: Projektų valdymo patirtis
D11: X1 | E11: X2 | F11: X3 | G11: X4 | H11: X5 | I11: X6 | J11: X7 | K11: X8 | L11: X9 | M11: X10 | N11: X11 | P11: X2 | Q11: Kompetencija
C12: E1 | D12: 1 | E12: 7 | F12: 10 | G12: 2 | H12: 8 | I12: 11 | J12: 3 | K12: 4 | L12: 5 | M12: 6 | N12: 9 | P12: X3 | Q12: Trikdžių šalinimas
C13: E2 | D13: 3 | E13: 4 | F13: 5 | G13: 7 | H13: 9 | I13: 11 | J13: 1 | K13: 8 | L13: 6 | M13: 2 | N13: 10 | P13: X4 | Q13: Sprendimų priėmimo efektyvumas
C14: E3 | D14: 1 | E14: 2 | F14: 11 | G14: 3 | H14: 8 | I14: 9 | J14: 4 | K14: 5 | L14: 7 | M14: 6 | N14: 10 | P14: X5 | Q14: Kontrolės sistema
C15: E4 | D15: 2 | E15: 3 | F15: 7 | G15: 6 | H15: 9 | I15: 11 | J15: 8 | K15: 1 | L15: 4 | M15: 5 | N15: 10 | P15: X6 | Q15: Motyvacija
C16: E5 | D16: 1 | E16: 3 | F16: 9 | G16: 4 | H16: 5 | I16: 8 | J16: 11 | K16: 6 | L16: 2 | M16: 7 | N16: 10 | P16: X7 | Q16: Projekto organizacinė struktūra
C17: E6 | D17: 2 | E17: 1 | F17: 8 | G17: 4 | H17: 10 | I17: 11 | J17: 7 | K17: 6 | L17: 5 | M17: 3 | N17: 9 | P17: X8 | Q17: Gera komunikacija su kitais projekto dalyviais
C18: E7 | D18: 1 | E18: 6 | F18: 7 | G18: 3 | H18: 8 | I18: 5 | J18: 2 | K18: 10 | L18: 9 | M18: 4 | N18: 11 | P18: X9 | Q18: Rizikos nustatymas ir prisiėmimas
C19: E8 | D19: 1 | E19: 4 | F19: 8 | G19: 6 | H19: 5 | I19: 9 | J19: 7 | K19: 2 | L19: 11 | M19: 3 | N19: 10 | P19: X10 | Q19: Techniniai komandos gebėjimai
C20: E9 | D20: 1 | E20: 7 | F20: 9 | G20: 2 | H20: 6 | I20: 11 | J20: 3 | K20: 8 | L20: 5 | M20: 4 | N20: 10 | P20: X11 | Q20: Personalo klausimai
C21: E10 | D21: 3 | E21: 1 | F21: 6 | G21: 4 | H21: 5 | I21: 10 | J21: 2 | K21: 8 | L21: 9 | M21: 7 | N21: 11
C22: E11 | D22: 1 | E22: 7 | F22: 10 | G22: 5 | H22: 8 | I22: 11 | J22: 2 | K22: 6 | L22: 4 | M22: 3 | N22: 9 | Q22: Konkordancijos koeficiento skaičiavimas
C23: E12 | D23: 1 | E23: 2 | F23: 10 | G23: 3 | H23: 6 | I23: 9 | J23: 4 | K23: 5 | L23: 7 | M23: 8 | N23: 11
C24: E13 | D24: 1 | E24: 6 | F24: 8 | G24: 4 | H24: 7 | I24: 11 | J24: 9 | K24: 5 | L24: 3 | M24: 2 | N24: 10 | Q24: Nuokrypio kvadratu sumos S skaičiavimas: | R24: =O42/11 -> 179.81818
C25: E14 | D25: 1 | E25: 5 | F25: 7 | G25: 2 | H25: 3 | I25: 11 | J25: 4 | K25: 8 | L25: 6 | M25: 10 | N25: 9 | R25: =D42-R24 -> -126.81818 | S25: =E42-R24 -> -82.818182 | T25: =F42-R24 -> 45.181818 | U25: =G42-R24 -> -64.818182 | V25: =H42-R24 -> 21.181818 | W25: =I42-R24 -> 62.181818 | X25: =J42-R24 -> 0.18181818 | Y25: =K42-R24 -> -6.8181818 | Z25: =L42-R24 -> 25.181818 | AA25: =M42-R24 -> -5.8181818 | AB25: =N42-R24 -> 133.18182
C26: E15 | D26: 1 | E26: 4 | F26: 8 | G26: 7 | H26: 5 | I26: 10 | J26: 6 | K26: 2 | L26: 9 | M26: 3 | N26: 11 | R26: =R25*R25 -> 16082.851 | S26: =S25*S25 -> 6858.8512 | T26: =T25*T25 -> 2041.3967 | U26: =U25*U25 -> 4201.3967 | V26: =V25*V25 -> 448.66942 | W26: =W25*W25 -> 3866.5785 | X26: =X25*X25 -> 0.033057851 | Y26: =Y25*Y25 -> 46.487603 | ... AB26: =AB25*AB25 -> 17737.397
C27: E16 | D27: 1 | E27: 6 | F27: 9 | G27: 4 | H27: 7 | I27: 5 | J27: 10 | K27: 3 | L27: 8 | M27: 2 | N27: 11 | Q27: S | R27: =SUM(R26:AB26) -> 51951.636
C28: E17 | D28: 2 | E28: 1 | F28: 7 | G28: 6 | H28: 9 | I28: 10 | J28: 8 | K28: 3 | L28: 4 | M28: 5 | N28: 11 | Q28: Konkordancijos koeficiento W nustatymas | R28: =12*R27 -> 623419.64
C29: E18 | D29: 5 | E29: 1 | F29: 6 | G29: 3 | H29: 7 | I29: 8 | J29: 4 | K29: 2 | L29: 9 | M29: 10 | N29: 11 | R29: 900
C30: E19 | D30: 2 | E30: 1 | F30: 8 | G30: 6 | H30: 10 | I30: 3 | J30: 5 | K30: 4 | L30: 9 | M30: 7 | N30: 11 | R30: =R29*1320 -> 1188000
C31: E20 | D31: 1 | E31: 2 | F31: 9 | G31: 4 | H31: 7 | I31: 3 | J31: 5 | K31: 8 | L31: 10 | M31: 6 | N31: 11 | Q31: W | R31: =R28/R30 -> 0.524764
C32: E21 | D32: 5 | E32: 2 | F32: 8 | G32: 6 | H32: 7 | I32: 3 | J32: 9 | K32: 10 | L32: 1 | M32: 4 | N32: 11 | Q32: Konkordancijos koeficiento reikšmingumas | R32: =R28/3960 -> 157.4292
C33: E22 | D33: 1 | E33: 2 | F33: 9 | G33: 3 | H33: 4 | I33: 7 | J33: 5 | K33: 6 | L33: 8 | M33: 10 | N33: 11
C34: E23 | D34: 1 | E34: 2 | F34: 6 | G34: 4 | H34: 10 | I34: 7 | J34: 8 | K34: 9 | L34: 3 | M34: 5 | N34: 11
C35: E24 | D35: 1 | E35: 2 | F35: 7 | G35: 3 | H35: 6 | I35: 8 | J35: 11 | K35: 4 | L35: 5 | M35: 9 | N35: 10
C36: E25 | D36: 5 | E36: 4 | F36: 8 | G36: 1 | H36: 7 | I36: 4 | J36: 3 | K36: 2 | L36: 9 | M36: 10 | N36: 11
C37: E26 | D37: 4 | E37: 1 | F37: 3 | G37: 2 | H37: 5 | I37: 8 | J37: 11 | K37: 6 | L37: 9 | M37: 7 | N37: 10
C38: E27 | D38: 1 | E38: 2 | F38: 5 | G38: 3 | H38: 4 | I38: 6 | J38: 7 | K38: 8 | L38: 9 | M38: 10 | N38: 11
C39: E28 | D39: 1 | E39: 3 | F39: 6 | G39: 2 | H39: 5 | I39: 7 | J39: 9 | K39: 8 | L39: 10 | M39: 4 | N39: 11
C40: E29 | D40: 1 | E40: 4 | F40: 6 | G40: 3 | H40: 7 | I40: 9 | J40: 5 | K40: 8 | L40: 10 | M40: 2 | N40: 11
C41: E30 | D41: 1 | E41: 2 | F41: 5 | G41: 3 | H41: 4 | I41: 6 | J41: 7 | K41: 8 | L41: 9 | M41: 10 | N41: 11
C42: Rangų suma | D42: =SUM(D12:D41) -> 53 | E42: =SUM(E12:E41) -> 97 | F42: =SUM(F12:F41) -> 225 | G42: =SUM(G12:G41) -> 115 | H42: =SUM(H12:H41) -> 201 | I42: =SUM(I12:I41) -> 242 | J42: =SUM(J12:J41) -> 180 | K42: =SUM(K12:K41) -> 173 | ... N42: =SUM(N12:N41) -> 313 | O42: =SUM(D42:N42) -> 1978
C43: Rangų vidurkis | D43: =(D42/30) -> 1.7666667 | E43: =(E42/30) -> 3.2333333 | F43: =(F42/30) -> 7.5 | G43: =(G42/30) -> 3.8333333 | H43: =(H42/30) -> 6.7 | I43: =(I42/30) -> 8.0666667 | J43: =(J42/30) -> 6 | K43: =(K42/30) -> 5.7666667 | ... N43: =(N42/30) -> 10.433333 | O43: =SUM(D43:N43) -> 65.933333
C44: Veiksnių reikšmingumas | D44: =(D43/O43) -> 0.026794742 | E44: =(E43/O43) -> 0.049039434 | F44: =(F43/O43) -> 0.11375126 | G44: =(G43/O43) -> 0.058139535 | H44: =(H43/O43) -> 0.1016178 | I44: =(I43/O43) -> 0.1223458 | J44: =(J43/O43) -> 0.091001011 | K44: =(K43/O43) -> 0.087462083 | L44: =(L43/O43) -> 0.10364004 | M44: =(M43/O43) -> 0.087967644 | N44: =(N43/O43) -> 0.15824065
D45: =1-D44 -> 0.97320526 | E45: =1-E44 -> 0.95096057 | F45: =1-F44 -> 0.88624874 | G45: =1-G44 -> 0.94186047 | H45: =1-H44 -> 0.8983822 | I45: =1-I44 -> 0.8776542 | J45: =1-J44 -> 0.90899899 | K45: =1-K44 -> 0.91253792 | ... N45: =1-N44 -> 0.84175935 | O45: =SUM(D45:N45) -> 10
C46: Subjektyvinis reikšmingumas | D46: =D45/10 -> 0.097320526 | E46: =E45/10 -> 0.095096057 | F46: =F45/10 -> 0.088624874 | G46: =G45/10 -> 0.094186047 | H46: =H45/10 -> 0.08983822 | I46: =I45/10 -> 0.08776542 | J46: =J45/10 -> 0.090899899 | K46: =K45/10 -> 0.091253792 | ... N46: =N45/10 -> 0.084175935 | O46: =SUM(D46:N46) -> 1
C48: Kriterijų ranžiruotė | D48: =IF(D44=D49,1,IF(D44=E49,2,IF(D44=F49,3,IF(D44=G49,4,IF(D44=H49,5,IF(D44=I49,6,IF(D44=J49,7,IF(D44=K49,8,IF(D44=L49,9,IF(D44=M49,10,11)))))))))) -> 1 | E48: =IF(E44=D49,1,IF(E44=E49,2,IF(E44=F49,3,IF(E44=G49,4,IF(E44=H49,5,IF(E44=I49,6,IF(E44=J49,7,IF(E44=K49,8,IF(E44=L49,9,IF(E44=M49,10,11)))))))))) -> 2 | F48: =IF(F44=D49,1,IF(F44=E49,2,IF(F44=F49,3,IF(F44=G49,4,IF(F44=H49,5,IF(F44=I49,6,IF(F44=J49,7,IF(F44=K49,8,IF(F44=L49,9,IF(F44=M49,10,11)))))))))) -> 9 | G48: =IF(G44=D49,1,IF(G44=E49,2,IF(G44=F49,3,IF(G44=G49,4,IF(G44=H49,5,IF(G44=I49,6,IF(G44=J49,7,IF(G44=K49,8,IF(G44=L49,9,IF(G44=M49,10,11)))))))))) -> 3 | H48: =IF(H44=D49,1,IF(H44=E49,2,IF(H44=F49,3,IF(H44=G49,4,IF(H44=H49,5,IF(H44=I49,6,IF(H44=J49,7,IF(H44=K49,8,IF(H44=L49,9,IF(H44=M49,10,11)))))))))) -> 7 | I48: =IF(I44=D49,1,IF(I44=E49,2,IF(I44=F49,3,IF(I44=G49,4,IF(I44=H49,5,IF(I44=I49,6,IF(I44=J49,7,IF(I44=K49,8,IF(I44=L49,9,IF(I44=M49,10,11)))))))))) -> 10 | J48: =IF(J44=D49,1,IF(J44=E49,2,IF(J44=F49,3,IF(J44=G49,4,IF(J44=H49,5,IF(J44=I49,6,IF(J44=J49,7,IF(J44=K49,8,IF(J44=L49,9,IF(J44=M49,10,11)))))))))) -> 6 | K48: =IF(K44=D49,1,IF(K44=E49,2,IF(K44=F49,3,IF(K44=G49,4,IF(K44=H49,5,IF(K44=I49,6,IF(K44=J49,7,IF(K44=K49,8,IF(K44=L49,9,IF(K44=M49,10,11)))))))))) -> 4 | L48: =IF(L44=D49,1,IF(L44=E49,2,IF(L44=F49,3,IF(L44=G49,4,IF(L44=H49,5,IF(L44=I49,6,IF(L44=J49,7,IF(L44=K49,8,IF(L44=L49,9,IF(L44=M49,10,11)))))))))) -> 8 | M48: =IF(M44=D49,1,IF(M44=E49,2,IF(M44=F49,3,IF(M44=G49,4,IF(M44=H49,5,IF(M44=I49,6,IF(M44=J49,7,IF(M44=K49,8,IF(M44=L49,9,IF(M44=M49,10,11)))))))))) -> 5 | N48: =IF(N44=D49,1,IF(N44=E49,2,IF(N44=F49,3,IF(N44=G49,4,IF(N44=H49,5,IF(N44=I49,6,IF(N44=J49,7,IF(N44=K49,8,IF(N44=L49,9,IF(N44=M49,10,11)))))))))) -> 11
...

Sheet Su projektu susije v. 
C5: Veiksnių reikšmingumų nustatymas ekspertinio vertinimo metodu
C8: Su projektu susiję veiksniai
C10: Ekspertai | D10: Vertinami veiksniai | U10: X1 | V10: Projekto kaina
D11: X1 | E11: X2 | F11: X3 | G11: X4 | H11: X5 | I11: X6 | J11: X7 | K11: X8 | L11: X9 | M11: X10 | N11: X11 | O11: X12 | P11: X13 | Q11: X14 | R11: X15 | S11: X16 | U11: X2 | V11: Projekto dydis
C12: E1 | D12: 1 | E12: 9 | F12: 3 | G12: 11 | H12: 12 | I12: 10 | J12: 8 | K12: 2 | L12: 13 | M12: 14 | N12: 6 | O12: 15 | P12: 16 | Q12: 5 | R12: 4 | S12: 7 | U12: X3 | V12: Aiškūs ir realūs tikslai
C13: E2 | D13: 8 | E13: 10 | F13: 2 | G13: 13 | H13: 16 | I13: 3 | J13: 9 | K13: 1 | L13: 14 | M13: 5 | N13: 4 | O13: 6 | P13: 15 | Q13: 11 | R13: 12 | S13: 7 | U13: X4 | V13: Projekto tipas
C14: E3 | D14: 1 | E14: 6 | F14: 4 | G14: 15 | H14: 14 | I14: 9 | J14: 7 | K14: 8 | L14: 12 | M14: 11 | N14: 10 | O14: 13 | P14: 16 | Q14: 3 | R14: 5 | S14: 2 | U14: X5 | V14: Sutarties tipas
C15: E4 | D15: 1 | E15: 2 | F15: 6 | G15: 12 | H15: 11 | I15: 9 | J15: 3 | K15: 4 | L15: 14 | M15: 10 | N15: 13 | O15: 15 | P15: 16 | Q15: 5 | R15: 7 | S15: 8 | U15: X6 | V15: Projekto kompleksiškumas, sudėtingumas ir unikalumas
C16: E5 | D16: 2 | E16: 4 | F16: 1 | G16: 14 | H16: 15 | I16: 7 | J16: 3 | K16: 12 | L16: 13 | M16: 10 | N16: 9 | O16: 11 | P16: 16 | Q16: 8 | R16: 5 | S16: 6 | U16: X7 | V16: Projekto trukmė
C17: E6 | D17: 2 | E17: 7 | F17: 3 | G17: 12 | H17: 13 | I17: 4 | J17: 8 | K17: 14 | L17: 11 | M17: 6 | N17: 16 | O17: 5 | P17: 15 | Q17: 1 | R17: 9 | S17: 10 | U17: X8 | V17: Planavimas
C18: E7 | D18: 6 | E18: 8 | F18: 1 | G18: 10 | H18: 15 | I18: 9 | J18: 11 | K18: 5 | L18: 7 | M18: 2 | N18: 16 | O18: 3 | P18: 13 | Q18: 12 | R18: 14 | S18: 4 | U18: X9 | V18: Inovacijos
C19: E8 | D19: 1 | E19: 5 | F19: 3 | G19: 8 | H19: 13 | I19: 2 | J19: 7 | K19: 9 | L19: 6 | M19: 11 | N19: 12 | O19: 10 | P19: 16 | Q19: 15 | R19: 14 | S19: 4 | U19: X10 | V19: Medžiagos ir įranga
C20: E9 | D20: 3 | E20: 2 | F20: 1 | G20: 9 | H20: 13 | I20: 10 | J20: 4 | K20: 11 | L20: 12 | M20: 15 | N20: 8 | O20: 14 | P20: 16 | Q20: 5 | R20: 6 | S20: 7 | U20: X11 | V20: Priežiūra (monitoringas)
C21: E10 | D21: 1 | E21: 2 | F21: 4 | G21: 13 | H21: 11 | I21: 10 | J21: 7 | K21: 9 | L21: 15 | M21: 6 | N21: 8 | O21: 14 | P21: 16 | Q21: 5 | R21: 3 | S21: 12 | U21: X12 | V21: Statybos metodai
C22: E11 | D22: 1 | E22: 4 | F22: 6 | G22: 14 | H22: 12 | I22: 9 | J22: 7 | K22: 8 | L22: 13 | M22: 11 | N22: 10 | O22: 15 | P22: 16 | Q22: 5 | R22: 2 | S22: 3 | U22: X13 | V22: Nelaimingi atsitikimai
C23: E12 | D23: 1 | E23: 2 | F23: 4 | G23: 11 | H23: 13 | I23: 9 | J23: 10 | K23: 8 | L23: 14 | M23: 3 | N23: 6 | O23: 15 | P23: 16 | Q23: 5 | R23: 7 | S23: 12 | U23: X14 | V23: Pelningumas
... C25: E14 | D25: 2 | E25: 1 | F25: 3 | G25: 14 | H25: 12 | I25: 10 | J25: 4 | K25: 5 | L25: 11 | M25: 13 | N25: 7 | O25: 9 | P25: 16 | Q25: 6 | R25: 15 | S25: 8 | U25: X16 | V25: Adekvatus finansavimas
C26: E15 | D26: 1 | E26: 2 | F26: 4 | G26: 14 | H26: 15 | I26: 10 | J26: 3 | K26: 5 | L26: 13 | M26: 11 | N26: 6 | O26: 8 | P26: 16 | Q26: 7 | R26: 9 | S26: 12.1
C27: E16 | D27: 1 | E27: 7 | F27: 2 | G27: 10 | H27: 13 | I27: 14 | J27: 8 | K27: 3 | L27: 16 | M27: 9 | N27: 5 | O27: 15 | P27: 12 | Q27: 4 | R27: 11 | S27: 6 | V27: Konkordancijos koeficiento skaičiavimas
C28: E17 | D28: 3 | E28: 15 | F28: 1 | G28: 14 | H28: 12 | I28: 2 | J28: 13 | K28: 4 | L28: 7 | M28: 11 | N28: 6 | O28: 10 | P28: 5 | Q28: 8 | R28: 9 | S28: 16
C29: E18 | D29: 9 | E29: 6 | F29: 4 | G29: 14 | H29: 3 | I29: 1 | J29: 5 | K29: 2 | L29: 10 | M29: 8 | N29: 16 | O29: 11 | P29: 15 | Q29: 12 | R29: 13 | S29: 7 | V29: Nuokrypio kvadratu sumos S skaičiavimas: | W29: =T42/16 -> 239.31875
C30: E19 | D30: 4 | E30: 5 | F30: 1 | G30: 12 | H30: 15 | I30: 6 | J30: 7 | K30: 2 | L30: 11 | M30: 10 | N30: 14 | O30: 9 | P30: 16 | Q30: 3 | R30: 13 | S30: 8 | W30: =D42-W29 -> -154.31875 | X30: =E42-W29 -> -8.31875 | Y30: =F42-W29 -> -148.31875 | Z30: =G42-W29 -> 139.68125 | AA30: =H42-W29 -> 142.68125 | AB30: =I42-W29 -> -24.31875 | AC30: =J42-W29 -> -128.31875 | AD30: =K42-W29 -> -64.31875 | AE30: =L42-W29 -> 70.68125 | AF30: =M42-W29 -> 30.68125 | AG30: =N42-W29 -> 25.68125 | AH30: =O42-W29 -> 64.68125 | AI30: =P42-W29 -> 181.68125 | AJ30: =Q42-W29 -> -33.31875 | AK30: =R42-W29 -> 30.68125 | AL30: =S42-W29 -> -125.21875
C31: E20 | D31: 1 | E31: 2 | F31: 6 | G31: 10 | H31: 14 | I31: 7 | J31: 4 | K31: 9 | L31: 8 | M31: 3 | N31: 12 | O31: 5 | P31: 16 | Q31: 11 | R31: 15 | S31: 13 | W31: =W30*W30 -> 23814.277 | X31: =X30*X30 -> 69.201602 | Y31: =Y30*Y30 -> 21998.452 | Z31: =Z30*Z30 -> 19510.852 | AA31: =AA30*AA30 -> 20357.939 | AB31: =AB30*AB30 -> 591.4016 | AC31: =AC30*AC30 -> 16465.702 | AD31: =AD30*AD30 -> 4136.9016 | ... AL31: =AL30*AL30 -> 15679.735
C32: E21 | D32: 9 | E32: 14 | F32: 1 | G32: 16 | H32: 10 | I32: 2 | J32: 13 | K32: 3 | L32: 7 | M32: 11 | N32: 8 | O32: 4 | P32: 5 | Q32: 12 | R32: 6 | S32: 15 | V32: S | W32: =SUM(W31:AL31) -> 168464.38
C33: E22 | D33: 6 | E33: 11 | F33: 1 | G33: 14 | H33: 7 | I33: 8 | J33: 12 | K33: 4 | L33: 3 | M33: 13 | N33: 5 | O33: 10 | P33: 16 | Q33: 2 | R33: 9 | S33: 15 | V33: Konkordancijos koeficiento W nustatymas | W33: =12*W32 -> 2021572.6
C34: E23 | D34: 5 | E34: 15 | F34: 1 | G34: 14 | H34: 6 | I34: 13 | J34: 4 | K34: 12 | L34: 16 | M34: 10 | N34: 9 | O34: 8 | P34: 11 | Q34: 3 | R34: 2 | S34: 7 | W34: 900
C35: E24 | D35: 1 | E35: 3 | F35: 8 | G35: 15 | H35: 14 | I35: 4 | J35: 5 | K35: 7 | L35: 16 | M35: 10 | N35: 9 | O35: 11 | P35: 13 | Q35: 12 | R35: 6 | S35: 2 | W35: =W34*4080 -> 3672000
C36: E25 | D36: 1 | E36: 9 | F36: 2 | G36: 14 | H36: 16 | I36: 15 | J36: 10 | K36: 3 | L36: 6 | M36: 13 | N36: 12 | O36: 7 | P36: 8 | Q36: 5 | R36: 11 | S36: 4 | V36: W | W36: =W33/W35 -> 0.5505372
C37: E26 | D37: 4 | E37: 13 | F37: 5 | G37: 15 | H37: 16 | I37: 11 | J37: 14 | K37: 6 | L37: 8 | M37: 9 | N37: 7 | O37: 10 | P37: 12 | Q37: 1 | R37: 2 | S37: 3 | V37: Konkordancijos koeficiento reikšmingumas | W37: =W33/8160 -> 247.74174
C38: E27 | D38: 1 | E38: 16 | F38: 4 | G38: 8 | H38: 14 | I38: 3 | J38: 15 | K38: 5 | L38: 6 | M38: 7 | N38: 2 | O38: 9 | P38: 13 | Q38: 12 | R38: 11 | S38: 10
C39: E28 | D39: 3 | E39: 12 | F39: 1 | G39: 13 | H39: 14 | I39: 4 | J39: 4 | K39: 2 | L39: 5 | M39: 8 | N39: 6 | O39: 11 | P39: 15 | Q39: 9 | R39: 10 | S39: 7
C40: E29 | D40: 2 | E40: 13 | F40: 1 | G40: 12 | H40: 14 | I40: 3 | J40: 7 | K40: 4 | L40: 8 | M40: 9 | N40: 10 | O40: 11 | P40: 16 | Q40: 6 | R40: 15 | S40: 5
C41: E30 | D41: 2 | E41: 16 | F41: 1 | G41: 15 | H41: 14 | I41: 3 | J41: 4 | K41: 5 | L41: 6 | M41: 7 | N41: 8 | O41: 9 | P41: 13 | Q41: 12 | R41: 11 | S41: 10
C42: Rangų suma | D42: =SUM(D12:D41) -> 85 | E42: =SUM(E12:E41) -> 231 | F42: =SUM(F12:F41) -> 91 | G42: =SUM(G12:G41) -> 379 | H42: =SUM(H12:H41) -> 382 | I42: =SUM(I12:I41) -> 215 | J42: =SUM(J12:J27) -> 111 | K42: =SUM(K12:K41) -> 175 | L42: =SUM(L12:L41) -> 310 | M42: =SUM(M12:M41) -> 270 | N42: =SUM(N12:N41) -> 265 | O42: =SUM(O12:O41) -> 304 | P42: =SUM(P12:P41) -> 421 | Q42: =SUM(Q12:Q41) -> 206 | R42: =SUM(R12:R41) -> 270 | S42: =SUM(S12:S27) -> 114.1 | T42: =SUM(D42:S42) -> 3829.1
C43: Rangų vidurkis | D43: =(D42/30) -> 2.8333333 | E43: =(E42/30) -> 7.7 | F43: =(F42/30) -> 3.0333333 | G43: =(G42/30) -> 12.633333 | H43: =(H42/30) -> 12.733333 | I43: =(I42/30) -> 7.1666667 | J43: =(J42/30) -> 3.7 | K43: =(K42/30) -> 5.8333333 | ... S43: =(S42/30) -> 3.8033333 | T43: =SUM(D43:S43) -> 127.63667
C44: Veiksnių reikšmingumas | D44: =(D43/T43) -> 0.022198428 | E44: =(E43/T43) -> 0.060327492 | F44: =(F43/T43) -> 0.023765376 | G44: =(G43/T43) -> 0.098978872 | H44: =(H43/T43) -> 0.099762346 | I44: =(I43/T43) -> 0.056148965 | J44: =(J43/T43) -> 0.028988535 | K44: =(K43/T43) -> 0.045702646 | L44: =(L43/T43) -> 0.080958972 | M44: =(M43/T43) -> 0.070512653 | N44: =(N43/T43) -> 0.069206863 | O44: =(O43/T43) -> 0.079392024 | P44: =(P43/T43) -> 0.10994751 | Q44: =(Q43/T43) -> 0.053798543 | R44: =(R43/T43) -> 0.070512653 | S44: =(S43/T43) -> 0.029798125
D45: =(1-D44) -> 0.97780157 | E45: =(1-E44) -> 0.93967251 | F45: =(1-F44) -> 0.97623462 | G45: =(1-G44) -> 0.90102113 | H45: =(1-H44) -> 0.90023765 | I45: =(1-I44) -> 0.94385104 | J45: =(1-J44) -> 0.97101146 | K45: =(1-K44) -> 0.95429735 | ... R45: =(1-R44) -> 0.92948735 | S45: =SUM(1-S44) -> 0.97020188 | T45: =SUM(D45:S45) -> 15
C46: Subjektyvinis reikšmingumas | D46: =(D45/15) -> 0.065186771 | E46: =(E45/15) -> 0.062644834 | F46: =(F45/15) -> 0.065082308 | G46: =(G45/15) -> 0.060068075 | H46: =(H45/15) -> 0.060015844 | I46: =(I45/15) -> 0.062923402 | J46: =(J45/15) -> 0.064734098 | K46: =(K45/15) -> 0.063619824 | ... S46: =(S45/15) -> 0.064680125 | T46: =SUM(D46:S46) -> 1
C48: Kriterijų ranžiruotė | D48: =IF(D44=D49,1,IF(D44=E49,2,IF(D44=F49,3,IF(D44=G49,4,IF(D44=H49,5,IF(D44=I49,6,IF(D44=J49,7,IF(D44=K49,8,IF(D44=L49,9,IF(D44=M49,10,IF(D44=N49,11,IF(D44=O49,12,IF(D44=P49,13,IF(D44=Q49,14,IF(D44=R49,15,16))))))))))))))) -> 1 | E48: =IF(E44=D49,1,IF(E44=E49,2,IF(E44=F49,3,IF(E44=G49,4,IF(E44=H49,5,IF(E44=I49,6,IF(E44=J49,7,IF(E44=K49,8,IF(E44=L49,9,IF(E44=M49,10,IF(E44=N49,11,IF(E44=O49,12,IF(E44=P49,13,IF(E44=Q49,14,IF(E44=R49,15,16))))))))))))))) -> 8 | F48: =IF(F44=D49,1,IF(F44=E49,2,IF(F44=F49,3,IF(F44=G49,4,IF(F44=H49,5,IF(F44=I49,6,IF(F44=J49,7,IF(F44=K49,8,IF(F44=L49,9,IF(F44=M49,10,IF(F44=N49,11,IF(F44=O49,12,IF(F44=P49,13,IF(F44=Q49,14,IF(F44=R49,15,16))))))))))))))) -> 2 | G48: =IF(G44=D49,1,IF(G44=E49,2,IF(G44=F49,3,IF(G44=G49,4,IF(G44=H49,5,IF(G44=I49,6,IF(G44=J49,7,IF(G44=K49,8,IF(G44=L49,9,IF(G44=M49,10,IF(G44=N49,11,IF(G44=O49,12,IF(G44=P49,13,IF(G44=Q49,14,IF(G44=R49,15,16))))))))))))))) -> 14 | H48: =IF(H44=D49,1,IF(H44=E49,2,IF(H44=F49,3,IF(H44=G49,4,IF(H44=H49,5,IF(H44=I49,6,IF(H44=J49,7,IF(H44=K49,8,IF(H44=L49,9,IF(H44=M49,10,IF(H44=N49,11,IF(H44=O49,12,IF(H44=P49,13,IF(H44=Q49,14,IF(H44=R49,15,16))))))))))))))) -> 15 | I48: =IF(I44=D49,1,IF(I44=E49,2,IF(I44=F49,3,IF(I44=G49,4,IF(I44=H49,5,IF(I44=I49,6,IF(I44=J49,7,IF(I44=K49,8,IF(I44=L49,9,IF(I44=M49,10,IF(I44=N49,11,IF(I44=O49,12,IF(I44=P49,13,IF(I44=Q49,14,IF(I44=R49,15,16))))))))))))))) -> 7 | J48: =IF(J44=D49,1,IF(J44=E49,2,IF(J44=F49,3,IF(J44=G49,4,IF(J44=H49,5,IF(J44=I49,6,IF(J44=J49,7,IF(J44=K49,8,IF(J44=L49,9,IF(J44=M49,10,IF(J44=N49,11,IF(J44=O49,12,IF(J44=P49,13,IF(J44=Q49,14,IF(J44=R49,15,16))))))))))))))) -> 3 | K48: =IF(K44=D49,1,IF(K44=E49,2,IF(K44=F49,3,IF(K44=G49,4,IF(K44=H49,5,IF(K44=I49,6,IF(K44=J49,7,IF(K44=K49,8,IF(K44=L49,9,IF(K44=M49,10,IF(K44=N49,11,IF(K44=O49,12,IF(K44=P49,13,IF(K44=Q49,14,IF(K44=R49,15,16))))))))))))))) -> 5 | L48: =IF(L44=D49,1,IF(L44=E49,2,IF(L44=F49,3,IF(L44=G49,4,IF(L44=H49,5,IF(L44=I49,6,IF(L44=J49,7,IF(L44=K49,8,IF(L44=L49,9,IF(L44=M49,10,IF(L44=N49,11,IF(L44=O49,12,IF(L44=P49,13,IF(L44=Q49,14,IF(L44=R49,15,16))))))))))))))) -> 13 | M48: =IF(M44=D49,1,IF(M44=E49,2,IF(M44=F49,3,IF(M44=G49,4,IF(M44=H49,5,IF(M44=I49,6,IF(M44=J49,7,IF(M44=K49,8,IF(M44=L49,9,IF(M44=M49,10,IF(M44=N49,11,IF(M44=O49,12,IF(M44=P49,13,IF(M44=Q49,14,IF(M44=R49,15,16))))))))))))))) -> 10 | N48: =IF(N44=D49,1,IF(N44=E49,2,IF(N44=F49,3,IF(N44=G49,4,IF(N44=H49,5,IF(N44=I49,6,IF(N44=J49,7,IF(N44=K49,8,IF(N44=L49,9,IF(N44=M49,10,IF(N44=N49,11,IF(N44=O49,12,IF(N44=P49,13,IF(N44=Q49,14,IF(N44=R49,15,16))))))))))))))) -> 9 | O48: =IF(O44=D49,1,IF(O44=E49,2,IF(O44=F49,3,IF(O44=G49,4,IF(O44=H49,5,IF(O44=I49,6,IF(O44=J49,7,IF(O44=K49,8,IF(O44=L49,9,IF(O44=M49,10,IF(O44=N49,11,IF(O44=O49,12,IF(O44=P49,13,IF(O44=Q49,14,IF(O44=R49,15,16))))))))))))))) -> 12 | P48: =IF(P44=D49,1,IF(P44=E49,2,IF(P44=F49,3,IF(P44=G49,4,IF(P44=H49,5,IF(P44=I49,6,IF(P44=J49,7,IF(P44=K49,8,IF(P44=L49,9,IF(P44=M49,10,IF(P44=N49,11,IF(P44=O49,12,IF(P44=P49,13,IF(P44=Q49,14,IF(P44=R49,15,16))))))))))))))) -> 16 | Q48: =IF(Q44=D49,1,IF(Q44=E49,2,IF(Q44=F49,3,IF(Q44=G49,4,IF(Q44=H49,5,IF(Q44=I49,6,IF(Q44=J49,7,IF(Q44=K49,8,IF(Q44=L49,9,IF(Q44=M49,10,IF(Q44=N49,11,IF(Q44=O49,12,IF(Q44=P49,13,IF(Q44=Q49,14,IF(Q44=R49,15,16))))))))))))))) -> 6 | R48: =IF(R44=D49,1,IF(R44=E49,2,IF(R44=F49,3,IF(R44=G49,4,IF(R44=H49,5,IF(R44=I49,6,IF(R44=J49,7,IF(R44=K49,8,IF(R44=L49,9,IF(R44=M49,10,IF(R44=N49,11,IF(R44=O49,12,IF(R44=P49,13,IF(R44=Q49,14,IF(R44=R49,15,16))))))))))))))) -> 10 | S48: =IF(S44=D49,1,IF(S44=E49,2,IF(S44=F49,3,IF(S44=G49,4,IF(S44=H49,5,IF(S44=I49,6,IF(S44=J49,7,IF(S44=K49,8,IF(S44=L49,9,IF(S44=M49,10,IF(S44=N49,11,IF(S44=O49,12,IF(S44=P49,13,IF(S44=Q49,14,IF(S44=R49,15,16))))))))))))))) -> 4
D49: =SMALL(D44:S44,1) -> 0.022198428 | E49: =SMALL(D44:S44,2) -> 0.023765376 | F49: =SMALL(D44:S44,3) -> 0.028988535 | G49: =SMALL(D44:S44,4) -> 0.029798125 | H49: =SMALL(D44:S44,5) -> 0.045702646 | I49: =SMALL(D44:S44,6) -> 0.053798543 | J49: =SMALL(D44:S44,7) -> 0.056148965 | K49: =SMALL(D44:S44,8) -> 0.060327492 | L49: =SMALL(D44:S44,9) -> 0.069206863 | M49: =SMALL(D44:S44,10) -> 0.070512653 | N49: =SMALL(D44:S44,11) -> 0.070512653 | O49: =SMALL(D44:S44,12) -> 0.079392024 | P49: =SMALL(D44:S44,13) -> 0.080958972 | Q49: =SMALL(D44:S44,14) -> 0.098978872 | R49: =SMALL(D44:S44,15) -> 0.099762346 | S49: =SMALL(D44:S44,16) -> 0.10994751
...

Sheet Instituciniai v.
C5: Veiksnių reikšmingumų nustatymas ekspertinio vertinimo metodu
C8: Instituciniai veiksniai
C10: Ekspertai | D10: Vertinami veiksniai | I10: X1 | J10: Statybos leidimai
D11: X1 | E11: X2 | F11: X3 | G11: X4 | I11: X2 | J11: Statybą reglamentuojantys dokumentai
C12: E1 | D12: 1 | E12: 2 | F12: 4 | G12: 3 | I12: X3 | J12: Produktų ir paslaugų sertifikavimas
C13: E2 | D13: 4 | E13: 1 | F13: 2 | G13: 3 | I13: X4 | J13: Standartai
C14: E3 | D14: 1 | E14: 2 | F14: 4 | G14: 3
C15: E4 | D15: 1 | E15: 2 | F15: 4 | G15: 3 | J15: Konkordancijos koeficiento skaičiavimas
C16: E5 | D16: 1 | E16: 3 | F16: 4 | G16: 2
C17: E6 | D17: 1 | E17: 2 | F17: 3 | G17: 4 | J17: Nuokrypio kvadratu sumos S skaičiavimas: | K17: =H42/4 -> 75
C18: E7 | D18: 1 | E18: 3 | F18: 2 | G18: 4 | K18: =D42-K17 -> -27 | L18: =E42-K17 -> -25 | M18: =F42-K17 -> 31 | N18: =G42-K17 -> 21
C19: E8 | D19: 1 | E19: 2 | F19: 4 | G19: 3 | K19: =K18*K18 -> 729 | L19: =L18*L18 -> 625 | M19: =M18*M18 -> 961 | N19: =N18*N18 -> 441
C20: E9 | D20: 2 | E20: 1 | F20: 3 | G20: 4 | J20: S | K20: =SUM(K19:N19) -> 2756
C21: E10 | D21: 1 | E21: 2 | F21: 4 | G21: 3 | J21: Konkordancijos koeficiento W nustatymas | K21: =12*K20 -> 33072
C22: E11 | D22: 1 | E22: 3 | F22: 4 | G22: 2 | K22: 900
C23: E12 | D23: 2 | E23: 1 | F23: 3 | G23: 4 | K23: =K22*60 -> 54000
C24: E13 | D24: 2 | E24: 1 | F24: 4 | G24: 3 | J24: W | K24: =K21/K23 -> 0.61244444
C25: E14 | D25: 1 | E25: 2 | F25: 4 | G25: 3 | J25: Konkordancijos koeficiento reikšmingumas | K25: =K21/600 -> 55.12
C26: E15 | D26: 1 | E26: 3 | F26: 4 | G26: 2
C27: E16 | D27: 1 | E27: 2 | F27: 3 | G27: 4
C28: E17 | D28: 3 | E28: 1 | F28: 4 | G28: 2
C29: E18 | D29: 1 | E29: 2 | F29: 3 | G29: 4
C30: E19 | D30: 2 | E30: 1 | F30: 4 | G30: 3
C31: E20 | D31: 2 | E31: 1 | F31: 4 | G31: 3
C32: E21 | D32: 1 | E32: 2 | F32: 4 | G32: 3
C33: E22 | D33: 2 | E33: 1 | F33: 4 | G33: 3
C34: E23 | D34: 3 | E34: 1 | F34: 2 | G34: 4
C35: E24 | D35: 1 | E35: 2 | F35: 4 | G35: 3
C36: E25 | D36: 2 | E36: 1 | F36: 3 | G36: 4
C37: E26 | D37: 2 | E37: 1 | F37: 4 | G37: 3
... C41: E30 | D41: 2 | E41: 1 | F41: 4 | G41: 3
C42: Rangų suma | D42: =SUM(D12:D41) -> 48 | E42: =SUM(E12:E41) -> 50 | F42: =SUM(F12:F41) -> 106 | G42: =SUM(G12:G41) -> 96 | H42: =SUM(D42:G42) -> 300
C43: Rangų vidurkis | D43: =(D42/30) -> 1.6 | E43: =(E42/30) -> 1.6666667 | F43: =(F42/30) -> 3.5333333 | G43: =(G42/30) -> 3.2 | H43: =SUM(D43:G43) -> 10
C44: Veiksnių reikšmingumas | D44: =(D43/H43) -> 0.16 | E44: =(E43/H43) -> 0.16666667 | F44: =(F43/H43) -> 0.35333333 | G44: =(G43/H43) -> 0.32
D45: =SUM(1-D44) -> 0.84 | E45: =SUM(1-E44) -> 0.83333333 | F45: =SUM(1-F44) -> 0.64666667 | G45: =SUM(1-G44) -> 0.68 | H45: =SUM(D45:G45) -> 3
C46: Subjektyvinis reikšmingumas | D46: =D45/3 -> 0.28 | E46: =E45/3 -> 0.27777778 | F46: =F45/3 -> 0.21555556 | G46: =G45/3 -> 0.22666667 | H46: =SUM(D46:G46) -> 1
C48: Kriterijų ranžiruotė | D48: =IF(D44=D49,1,IF(D44=E49,2,IF(D44=F49,3,IF(D44=G49,4)))) -> 1 | E48: =IF(E44=D49,1,IF(E44=E49,2,IF(E44=F49,3,IF(E44=G49,4)))) -> 2 | F48: =IF(F44=D49,1,IF(F44=E49,2,IF(F44=F49,3,IF(F44=G49,4)))) -> 4 | G48: =IF(G44=D49,1,IF(G44=E49,2,IF(G44=F49,3,IF(G44=G49,4)))) -> 3
D49: =SMALL(D44:G44,1) -> 0.16 | E49: =SMALL(D44:G44,2) -> 0.16666667 | F49: =SMALL(D44:G44,3) -> 0.32 | G49: =SMALL(D44:G44,4) -> 0.35333333

Sheet Isoriniai  v.
C5: Veiksnių reikšmingumų nustatymas ekspertinio vertinimo metodu
C8: Išoriniai veiksniai
C10: Ekspertai | D10: Vertinami veiksniai | M10: X1 | N10: Ekonominė aplinka
D11: X1 | E11: X2 | F11: X3 | G11: X4 | H11: X5 | I11: X6 | J11: X7 | K11: X8 | M11: X2 | N11: Socialinė aplinka
C12: E1 | D12: 1 | E12: 6 | F12: 2 | G12: 8 | H12: 5 | I12: 3 | J12: 6 | K12: 7 | M12: X3 | N12: Politinė aplinka
C13: E2 | D13: 2 | E13: 7 | F13: 4 | G13: 8 | H13: 3 | I13: 1 | J13: 6 | K13: 5 | M13: X4 | N13: Fizinė aplinka
C14: E3 | D14: 1 | E14: 5 | F14: 3 | G14: 8 | H14: 4 | I14: 2 | J14: 6 | K14: 7 | M14: X5 | N14: Technologinė aplinka
C15: E4 | D15: 1 | E15: 4 | F15: 3 | G15: 5 | H15: 6 | I15: 2 | J15: 7 | K15: 8 | M15: X6 | N15: Teisinė aplinka
C16: E5 | D16: 1 | E16: 7 | F16: 2 | G16: 6 | H16: 5 | I16: 4 | J16: 8 | K16: 3 | M16: X7 | N16: Kultūrinė aplinka
C17: E6 | D17: 1 | E17: 8 | F17: 2 | G17: 3 | H17: 6 | I17: 4 | J17: 7 | K17: 5 | M17: X8 | N17: Gamtinė ekologinė aplinka
C18: E7 | D18: 1 | E18: 8 | F18: 2 | G18: 4 | H18: 3 | I18: 5 | J18: 7 | K18: 6
C19: E8 | D19: 1 | E19: 6 | F19: 2 | G19: 4 | H19: 5 | I19: 3 | J19: 8 | K19: 7 | N19: Konkordancijos koeficiento skaičiavimas
C20: E9 | D20: 2 | E20: 6 | F20: 1 | G20: 3 | H20: 5 | I20: 4 | J20: 7 | K20: 8
C21: E10 | D21: 1 | E21: 4 | F21: 3 | G21: 6 | H21: 5 | I21: 2 | J21: 7 | K21: 8 | N21: Nuokrypio kvadratu sumos S skaičiavimas: | O21: =L42/8 -> 135.25
C22: E11 | D22: 2 | E22: 3 | F22: 6 | G22: 7 | H22: 5 | I22: 1 | J22: 4 | K22: 8 | O22: =D42-O21 -> -91.25 | P22: =E42-O21 -> 21.75 | Q22: =F42-O21 -> -46.25 | R22: =G42-O21 -> 20.75 | S22: =H42-O21 -> -12.25 | T22: =I42-O21 -> -28.25 | U22: =J42-O21 -> 69.75 | V22: =K42-O21 -> 65.75
C23: E12 | D23: 1 | E23: 2 | F23: 3 | G23: 5 | H23: 4 | I23: 6 | J23: 7 | K23: 8 | O23: =O22*O22 -> 8326.5625 | P23: =P22*P22 -> 473.0625 | Q23: =Q22*Q22 -> 2139.0625 | R23: =R22*R22 -> 430.5625 | S23: =S22*S22 -> 150.0625 | T23: =T22*T22 -> 798.0625 | U23: =U22*U22 -> 4865.0625 | V23: =V22*V22 -> 4323.0625
C24: E13 | D24: 2 | E24: 3 | F24: 1 | G24: 6 | H24: 8 | I24: 7 | J24: 4 | K24: 5 | N24: S | O24: =SUM(O23:V23) -> 21505.5
C25: E14 | D25: 1 | E25: 3 | F25: 2 | G25: 5 | H25: 4 | I25: 6 | J25: 8 | K25: 7 | N25: Konkordancijos koeficiento W nustatymas | O25: =12*O24 -> 258066
C26: E15 | D26: 3 | E26: 2 | F26: 1 | G26: 4 | H26: 5 | I26: 7 | J26: 8 | K26: 6 | O26: 900
C27: E16 | D27: 2 | E27: 4 | F27: 1 | G27: 8 | H27: 7 | I27: 3 | J27: 6 | K27: 5 | O27: =O26*504 -> 453600
C28: E17 | D28: 1 | E28: 5 | F28: 2 | G28: 8 | H28: 4 | I28: 3 | J28: 6 | K28: 7 | N28: W | O28: =O25/O27 -> 0.56892857
C29: E18 | D29: 3 | E29: 8 | F29: 5 | G29: 2 | H29: 1 | I29: 4 | J29: 6 | K29: 7 | N29: Konkordancijos koeficiento reikšmingumas | O29: =O25/2160 -> 119.475
C30: E19 | D30: 1 | E30: 3 | F30: 2 | G30: 8 | H30: 4 | I30: 5 | J30: 7 | K30: 6
C31: E20 | D31: 2 | E31: 1 | F31: 3 | G31: 6 | H31: 5 | I31: 4 | J31: 7 | K31: 8
C32: E21 | D32: 1 | E32: 5 | F32: 6 | G32: 4 | H32: 2 | I32: 3 | J32: 8 | K32: 7
C33: E22 | D33: 1 | E33: 5 | F33: 3 | G33: 4 | H33: 6 | I33: 2 | J33: 8 | K33: 7
C34: E23 | D34: 3 | E34: 8 | F34: 5 | G34: 1 | H34: 2 | I34: 4 | J34: 6 | K34: 7
C35: E24 | D35: 1 | E35: 6 | F35: 5 | G35: 2 | H35: 3 | I35: 4 | J35: 8 | K35: 7
C36: E25 | D36: 1 | E36: 6 | F36: 5 | G36: 4 | H36: 2 | I36: 3 | J36: 8 | K36: 7
C37: E26 | D37: 1 | E37: 5 | F37: 4 | G37: 7 | H37: 2 | I37: 3 | J37: 6 | K37: 8
C38: E27 | D38: 1 | E38: 8 | F38: 2 | G38: 5 | H38: 4 | I38: 3 | J38: 7 | K38: 6
C39: E28 | D39: 2 | E39: 6 | F39: 3 | G39: 4 | H39: 1 | I39: 5 | J39: 7 | K39: 8
C40: E29 | D40: 2 | E40: 5 | F40: 4 | G40: 6 | H40: 3 | I40: 1 | J40: 8 | K40: 7
C41: E30 | D41: 1 | E41: 8 | F41: 2 | G41: 5 | H41: 4 | I41: 3 | J41: 7 | K41: 6
C42: Rangų suma | D42: =SUM(D12:D41) -> 44 | E42: =SUM(E12:E41) -> 157 | F42: =SUM(F12:F41) -> 89 | G42: =SUM(G12:G41) -> 156 | H42: =SUM(H12:H41) -> 123 | I42: =SUM(I12:I41) -> 107 | J42: =SUM(J12:J41) -> 205 | K42: =SUM(K12:K41) -> 201 | L42: =SUM(D42:K42) -> 1082
C43: Rangų vidurkis | D43: =(D42/30) -> 1.4666667 | E43: =(E42/30) -> 5.2333333 | F43: =(F42/30) -> 2.9666667 | G43: =(G42/30) -> 5.2 | H43: =(H42/30) -> 4.1 | I43: =(I42/30) -> 3.5666667 | J43: =(J42/30) -> 6.8333333 | K43: =(K42/30) -> 6.7 | L43: =SUM(D43:K43) -> 36.066667
C44: Veiksnių reikšmingumas | D44: =(D43/L43) -> 0.040665434 | E44: =(E43/L43) -> 0.14510166 | F44: =(F43/L43) -> 0.082255083 | G44: =(G43/L43) -> 0.14417745 | H44: =(H43/L43) -> 0.11367837 | I44: =(I43/L43) -> 0.098890943 | J44: =(J43/L43) -> 0.18946396 | K44: =(K43/L43) -> 0.1857671
D45: =(1-D44) -> 0.95933457 | E45: =(1-E44) -> 0.85489834 | F45: =(1-F44) -> 0.91774492 | G45: =(1-G44) -> 0.85582255 | H45: =(1-H44) -> 0.88632163 | I45: =(1-I44) -> 0.90110906 | J45: =(1-J44) -> 0.81053604 | K45: =(1-K44) -> 0.8142329 | L45: =SUM(D45:K45) -> 7
C46: Subjektyvinis reikšmingumas | D46: =(D45/L45) -> 0.1370478 | E46: =(E45/L45) -> 0.12212833 | F46: =(F45/L45) -> 0.13110642 | G46: =(G45/L45) -> 0.12226036 | H46: =(H45/L45) -> 0.12661738 | I46: =(I45/L45) -> 0.12872987 | J46: =(J45/L45) -> 0.11579086 | K46: =(K45/L45) -> 0.11631899 | L46: =SUM(D46:K46) -> 1
C48: Kriterijų ranžiruotė | D48: =IF(D44=D49,1,IF(D44=E49,2,IF(D44=F49,3,IF(D44=G49,4,IF(D44=H49,5,IF(D44=I49,6,IF(D44=J49,7,8))))))) -> 1 | E48: =IF(E44=D49,1,IF(E44=E49,2,IF(E44=F49,3,IF(E44=G49,4,IF(E44=H49,5,IF(E44=I49,6,IF(E44=J49,7,8))))))) -> 6 | F48: =IF(F44=D49,1,IF(F44=E49,2,IF(F44=F49,3,IF(F44=G49,4,IF(F44=H49,5,IF(F44=I49,6,IF(F44=J49,7,8))))))) -> 2 | G48: =IF(G44=D49,1,IF(G44=E49,2,IF(G44=F49,3,IF(G44=G49,4,IF(G44=H49,5,IF(G44=I49,6,IF(G44=J49,7,8))))))) -> 5 | H48: =IF(H44=D49,1,IF(H44=E49,2,IF(H44=F49,3,IF(H44=G49,4,IF(H44=H49,5,IF(H44=I49,6,IF(H44=J49,7,8))))))) -> 4 | I48: =IF(I44=D49,1,IF(I44=E49,2,IF(I44=F49,3,IF(I44=G49,4,IF(I44=H49,5,IF(I44=I49,6,IF(I44=J49,7,8))))))) -> 3 | J48: =IF(J44=D49,1,IF(J44=E49,2,IF(J44=F49,3,IF(J44=G49,4,IF(J44=H49,5,IF(J44=I49,6,IF(J44=J49,7,8))))))) -> 8 | K48: =IF(K44=D49,1,IF(K44=E49,2,IF(K44=F49,3,IF(K44=G49,4,IF(K44=H49,5,IF(K44=I49,6,IF(K44=J49,7,8))))))) -> 7
...

Sheet Grupiu vertinimas
C5: Veiksnių reikšmingumų nustatymas ekspertinio vertinimo metodu
C8: Veiksnių grupės
C10: Ekspertai | D10: Vertinami veiksniai | L10: X1 | M10: Išoriniai veiksniai
D11: X1 | E11: X2 | F11: X3 | G11: X4 | H11: X5 | I11: X6 | J11: X7 | L11: X2 | M11: Instituciniai veiksniai
C12: E1 | D12: 7 | E12: 6 | F12: 5 | G12: 2 | H12: 1 | I12: 3 | J12: 4 | L12: X3 | M12: Su projektų susiję veiksniai
C13: E2 | D13: 6 | E13: 7 | F13: 3 | G13: 1 | H13: 2 | I13: 5 | J13: 4 | L13: X4 | M13: Su projekto valdymu/komanda susiję veiksniai
C14: E3 | D14: 6 | E14: 7 | F14: 5 | G14: 1 | H14: 2 | I14: 4 | J14: 5 | L14: X5 | M14: Su projekto vadovu susiję veiksniai
C15: E4 | D15: 6 | E15: 7 | F15: 4 | G15: 1 | H15: 3 | I15: 5 | J15: 2 | L15: X6 | M15: Su statytoju susiję veiksniai
C16: E5 | D16: 7 | E16: 6 | F16: 1 | G16: 3 | H16: 2 | I16: 4 | J16: 5 | L16: X7 | M16: Su rangovu susiję veiksniai
C17: E6 | D17: 6 | E17: 5 | F17: 1 | G17: 3 | H17: 7 | I17: 4 | J17: 2
C18: E7 | D18: 7 | E18: 5 | F18: 2 | G18: 1 | H18: 3 | I18: 6 | J18: 4 | M18: Konkordancijos koeficiento skaičiavimas
C19: E8 | D19: 4 | E19: 7 | F19: 2 | G19: 1 | H19: 3 | I19: 5 | J19: 6
C20: E9 | D20: 7 | E20: 6 | F20: 5 | G20: 2 | H20: 1 | I20: 3 | J20: 4 | M20: Nuokrypio kvadratu sumos S skaičiavimas: | N20: =K42/7 -> 120.28571
C21: E10 | D21: 5 | E21: 7 | F21: 4 | G21: 1 | H21: 3 | I21: 6 | J21: 2 | N21: =D42-N20 -> 60.714286 | O21: =E42-N20 -> 65.714286 | P21: =F42-N20 -> -41.285714 | Q21: =G42-N20 -> -62.285714 | R21: =H42-N20 -> -30.285714 | S21: =I42-N20 -> 8.7142857 | T21: =J42-N20 -> -1.2857143
C22: E11 | D22: 4 | E22: 7 | F22: 6 | G22: 3 | H22: 1 | I22: 5 | J22: 2 | N22: =N21*N21 -> 3686.2245 | O22: =O21*O21 -> 4318.3673 | P22: =P21*P21 -> 1704.5102 | Q22: =Q21*Q21 -> 3879.5102 | R22: =R21*R21 -> 917.22449 | S22: =S21*S21 -> 75.938776 | T22: =T21*T21 -> 1.6530612
C23: E12 | D23: 6 | E23: 7 | F23: 2 | G23: 1 | H23: 3 | I23: 5 | J23: 4 | M23: S | N23: =SUM(N22:U22) -> 14583.429
C24: E13 | D24: 5 | E24: 7 | F24: 2 | G24: 1 | H24: 3 | I24: 6 | J24: 4 | M24: Konkordancijos koeficiento W nustatymas | N24: =12*N23 -> 175001.14
C25: E14 | D25: 7 | E25: 5 | F25: 1 | G25: 2 | H25: 4 | I25: 6 | J25: 3 | N25: 900
C26: E15 | D26: 4 | E26: 5 | F26: 2 | G26: 1 | H26: 3 | I26: 7 | J26: 6 | N26: =N25*336 -> 302400
C27: E16 | D27: 7 | E27: 6 | F27: 2 | G27: 1 | H27: 3 | I27: 4 | J27: 5 | M27: W | N27: =N24/N26 -> 0.57870748
C28: E17 | D28: 7 | E28: 5 | F28: 6 | G28: 4 | H28: 3 | I28: 1 | J28: 2 | M28: Konkordancijos koeficiento reikšmingumas | N28: =N24/1680 -> 104.16735
C29: E18 | D29: 6 | E29: 7 | F29: 1 | G29: 2 | H29: 3 | I29: 4 | J29: 5
C30: E19 | D30: 7 | E30: 4 | F30: 2 | G30: 5 | H30: 6 | I30: 1 | J30: 3
C31: E20 | D31: 7 | E31: 6 | F31: 3 | G31: 2 | H31: 1 | I31: 4 | J31: 5
C32: E21 | D32: 6 | E32: 7 | F32: 5 | G32: 2 | H32: 1 | I32: 3 | J32: 4
C33: E22 | D33: 6 | E33: 7 | F33: 2 | G33: 1 | H33: 3 | I33: 5 | J33: 4
C34: E23 | D34: 4 | E34: 7 | F34: 1 | G34: 2 | H34: 6 | I34: 5 | J34: 3
C35: E24 | D35: 7 | E35: 6 | F35: 1 | G35: 2 | H35: 5 | I35: 4 | J35: 3
C36: E25 | D36: 7 | E36: 6 | F36: 1 | G36: 4 | H36: 5 | I36: 2 | J36: 3
C37: E26 | D37: 7 | E37: 6 | F37: 1 | G37: 2 | H37: 3 | I37: 5 | J37: 4
C38: E27 | D38: 6 | E38: 7 | F38: 1 | G38: 4 | H38: 3 | I38: 2 | J38: 5
C39: E28 | D39: 7 | E39: 6 | F39: 2 | G39: 1 | H39: 3 | I39: 4 | J39: 5
C40: E29 | D40: 6 | E40: 7 | F40: 3 | G40: 1 | H40: 2 | I40: 5 | J40: 4
C41: E30 | D41: 4 | E41: 5 | F41: 3 | G41: 1 | H41: 2 | I41: 6 | J41: 7
C42: Rangų suma | D42: =SUM(D12:D41) -> 181 | E42: =SUM(E12:E41) -> 186 | F42: =SUM(F12:F41) -> 79 | G42: =SUM(G12:G41) -> 58 | H42: =SUM(H12:H41) -> 90 | I42: =SUM(I12:I41) -> 129 | J42: =SUM(J12:J41) -> 119 | K42: =SUM(D42:J42) -> 842
C43: Rangų vidurkis | D43: =(D42/30) -> 6.0333333 | E43: =(E42/30) -> 6.2 | F43: =(F42/30) -> 2.6333333 | G43: =(G42/30) -> 1.9333333 | H43: =(H42/30) -> 3 | I43: =(I42/30) -> 4.3 | J43: =(J42/30) -> 3.9666667 | K43: =SUM(D43:J43) -> 28.066667
C44: Veiksnių reikšmingumas | D44: =(D43/K43) -> 0.21496437 | E44: =(E43/K43) -> 0.22090261 | F44: =(F43/K43) -> 0.093824228 | G44: =(G43/K43) -> 0.06888361 | H44: =(H43/K43) -> 0.10688836 | I44: =(I43/K43) -> 0.15320665 | J44: =(J43/K43) -> 0.14133017 | K44: =SUM(D44:J44) -> 1
D45: =SUM(1-D44) -> 0.78503563 | E45: =SUM(1-E44) -> 0.77909739 | F45: =SUM(1-F44) -> 0.90617577 | G45: =SUM(1-G44) -> 0.93111639 | H45: =SUM(1-H44) -> 0.89311164 | I45: =SUM(1-I44) -> 0.84679335 | J45: =SUM(1-J44) -> 0.85866983 | K45: =SUM(D45:J45) -> 6
C46: Subjektyvinis reikšmingumas | D46: =D45/K45 -> 0.13083927 | E46: =E45/K45 -> 0.12984956 | F46: =F45/K45 -> 0.1510293 | G46: =G45/K45 -> 0.15518606 | H46: =H45/K45 -> 0.14885194 | I46: =I45/K45 -> 0.14113222 | J46: =J45/K45 -> 0.14311164
